BEGIN:VCALENDAR
VERSION:2.0
PRODID:-//IRI | The Marshall Islands Registry - ECPv6.15.13.1//NONSGML v1.0//EN
CALSCALE:GREGORIAN
METHOD:PUBLISH
X-WR-CALNAME:IRI | The Marshall Islands Registry
X-ORIGINAL-URL:https://www.register-iri.com
X-WR-CALDESC:Events for IRI | The Marshall Islands Registry
REFRESH-INTERVAL;VALUE=DURATION:PT1H
X-Robots-Tag:noindex
X-PUBLISHED-TTL:PT1H
BEGIN:VTIMEZONE
TZID:Europe/Istanbul
BEGIN:STANDARD
TZOFFSETFROM:+0300
TZOFFSETTO:+0300
TZNAME:+03
DTSTART:20240101T000000
END:STANDARD
END:VTIMEZONE
BEGIN:VEVENT
DTSTART;TZID=Europe/Istanbul:20250522T090000
DTEND;TZID=Europe/Istanbul:20250522T153000
DTSTAMP:20260421T213146
CREATED:20250402T115534Z
LAST-MODIFIED:20250430T095706Z
UID:10000932-1747904400-1747927800@www.register-iri.com
SUMMARY:1st SAFETY4SEA Istanbul Forum
DESCRIPTION:
URL:https://www.register-iri.com/event/1st-safety4sea-istanbul-forum/
LOCATION:Radisson Blu Hotel\, Istanbul Pera\, Evliya Çelebi\, Refik Saydam Cd. No:19\, Beyoğlu/İstanbul\, 34430\, Turkey
CATEGORIES:Conference
END:VEVENT
END:VCALENDAR