BEGIN:VCALENDAR
VERSION:2.0
PRODID:-//IRI | The Marshall Islands Registry - ECPv6.15.13.1//NONSGML v1.0//EN
CALSCALE:GREGORIAN
METHOD:PUBLISH
X-WR-CALNAME:IRI | The Marshall Islands Registry
X-ORIGINAL-URL:https://www.register-iri.com
X-WR-CALDESC:Events for IRI | The Marshall Islands Registry
REFRESH-INTERVAL;VALUE=DURATION:PT1H
X-Robots-Tag:noindex
X-PUBLISHED-TTL:PT1H
BEGIN:VTIMEZONE
TZID:Europe/Athens
BEGIN:DAYLIGHT
TZOFFSETFROM:+0200
TZOFFSETTO:+0300
TZNAME:EEST
DTSTART:20240331T010000
END:DAYLIGHT
BEGIN:STANDARD
TZOFFSETFROM:+0300
TZOFFSETTO:+0200
TZNAME:EET
DTSTART:20241027T010000
END:STANDARD
BEGIN:DAYLIGHT
TZOFFSETFROM:+0200
TZOFFSETTO:+0300
TZNAME:EEST
DTSTART:20250330T010000
END:DAYLIGHT
BEGIN:STANDARD
TZOFFSETFROM:+0300
TZOFFSETTO:+0200
TZNAME:EET
DTSTART:20251026T010000
END:STANDARD
BEGIN:DAYLIGHT
TZOFFSETFROM:+0200
TZOFFSETTO:+0300
TZNAME:EEST
DTSTART:20260329T010000
END:DAYLIGHT
BEGIN:STANDARD
TZOFFSETFROM:+0300
TZOFFSETTO:+0200
TZNAME:EET
DTSTART:20261025T010000
END:STANDARD
END:VTIMEZONE
BEGIN:VTIMEZONE
TZID:Europe/Moscow
BEGIN:STANDARD
TZOFFSETFROM:+0300
TZOFFSETTO:+0300
TZNAME:MSK
DTSTART:20240101T000000
END:STANDARD
END:VTIMEZONE
BEGIN:VEVENT
DTSTART;TZID=Europe/Athens:20251006T080000
DTEND;TZID=Europe/Athens:20251008T150000
DTSTAMP:20260421T212150
CREATED:20250918T103313Z
LAST-MODIFIED:20250923T084051Z
UID:10001013-1759737600-1759935600@www.register-iri.com
SUMMARY:"Maritime Cyprus 2025" Conference
DESCRIPTION:
URL:https://www.register-iri.com/event/maritime-cyprus-2025-conference/
LOCATION:Parklane\, a Luxury Collection Resort & Spa\, Limassol\, 11 Giannou Kranidioti Street\, Limassol\, 4534\, Cyprus
CATEGORIES:Conference
END:VEVENT
BEGIN:VEVENT
DTSTART;TZID=Europe/Moscow:20250522T083000
DTEND;TZID=Europe/Moscow:20250522T144000
DTSTAMP:20260421T212150
CREATED:20250502T104641Z
LAST-MODIFIED:20250502T105429Z
UID:10000529-1747902600-1747924800@www.register-iri.com
SUMMARY:11th International Compliance Forum
DESCRIPTION:
URL:https://www.register-iri.com/event/11th-international-compliance-forum-2/
LOCATION:Parklane\, a Luxury Collection Resort & Spa\, Limassol\, 11 Giannou Kranidioti Street\, Limassol\, 4534\, Cyprus
CATEGORIES:Conference
END:VEVENT
END:VCALENDAR