BEGIN:VCALENDAR
VERSION:2.0
PRODID:-//IRI | The Marshall Islands Registry - ECPv6.15.13.1//NONSGML v1.0//EN
CALSCALE:GREGORIAN
METHOD:PUBLISH
X-WR-CALNAME:IRI | The Marshall Islands Registry
X-ORIGINAL-URL:https://www.register-iri.com
X-WR-CALDESC:Events for IRI | The Marshall Islands Registry
REFRESH-INTERVAL;VALUE=DURATION:PT1H
X-Robots-Tag:noindex
X-PUBLISHED-TTL:PT1H
BEGIN:VTIMEZONE
TZID:Europe/London
BEGIN:DAYLIGHT
TZOFFSETFROM:+0000
TZOFFSETTO:+0100
TZNAME:BST
DTSTART:20250330T010000
END:DAYLIGHT
BEGIN:STANDARD
TZOFFSETFROM:+0100
TZOFFSETTO:+0000
TZNAME:GMT
DTSTART:20251026T010000
END:STANDARD
BEGIN:DAYLIGHT
TZOFFSETFROM:+0000
TZOFFSETTO:+0100
TZNAME:BST
DTSTART:20260329T010000
END:DAYLIGHT
BEGIN:STANDARD
TZOFFSETFROM:+0100
TZOFFSETTO:+0000
TZNAME:GMT
DTSTART:20261025T010000
END:STANDARD
BEGIN:DAYLIGHT
TZOFFSETFROM:+0000
TZOFFSETTO:+0100
TZNAME:BST
DTSTART:20270328T010000
END:DAYLIGHT
BEGIN:STANDARD
TZOFFSETFROM:+0100
TZOFFSETTO:+0000
TZNAME:GMT
DTSTART:20271031T010000
END:STANDARD
END:VTIMEZONE
BEGIN:VEVENT
DTSTART;VALUE=DATE:20260421
DTEND;VALUE=DATE:20260423
DTSTAMP:20260421T162417
CREATED:20260401T041911Z
LAST-MODIFIED:20260401T042937Z
UID:10001149-1776729600-1776902399@www.register-iri.com
SUMMARY:International Chemical & Product Tanker Conference 2026
DESCRIPTION:
URL:https://www.register-iri.com/event/international-chemical-product-tanker-conference-2026/
LOCATION:Millennium Gloucester Hotel and Conference Centre London\, 4-18 Harrington Gardens\, London\, SW7 4LH\, United Kingdom
CATEGORIES:Conference
END:VEVENT
END:VCALENDAR