BEGIN:VCALENDAR
VERSION:2.0
PRODID:-//IRI | The Marshall Islands Registry - ECPv6.15.13.1//NONSGML v1.0//EN
CALSCALE:GREGORIAN
METHOD:PUBLISH
X-ORIGINAL-URL:https://www.register-iri.com
X-WR-CALDESC:Events for IRI | The Marshall Islands Registry
REFRESH-INTERVAL;VALUE=DURATION:PT1H
X-Robots-Tag:noindex
X-PUBLISHED-TTL:PT1H
BEGIN:VTIMEZONE
TZID:UTC
BEGIN:STANDARD
TZOFFSETFROM:+0000
TZOFFSETTO:+0000
TZNAME:UTC
DTSTART:20200101T000000
END:STANDARD
END:VTIMEZONE
BEGIN:VEVENT
DTSTART;VALUE=DATE:20211011
DTEND;VALUE=DATE:20211014
DTSTAMP:20260426T004002
CREATED:20210603T190930Z
LAST-MODIFIED:20210922T131431Z
UID:10000625-1633910400-1634169599@www.register-iri.com
SUMMARY:SHIPPINGInsight 2021: Bridging the Decade
DESCRIPTION:
URL:https://www.register-iri.com/event/shippinginsight-2021-bridging-the-decade/
CATEGORIES:Conference,Virtual
END:VEVENT
BEGIN:VEVENT
DTSTART;VALUE=DATE:20211012
DTEND;VALUE=DATE:20211014
DTSTAMP:20260426T004002
CREATED:20210825T151043Z
LAST-MODIFIED:20210825T151043Z
UID:10000230-1633996800-1634169599@www.register-iri.com
SUMMARY:Capital Link’s 13th Annual Digital New York Maritime Forum
DESCRIPTION:
URL:https://www.register-iri.com/event/capital-links-13th-annual-digital-new-york-maritime-forum/
CATEGORIES:Conference
END:VEVENT
BEGIN:VEVENT
DTSTART;VALUE=DATE:20211013
DTEND;VALUE=DATE:20211014
DTSTAMP:20260426T004002
CREATED:20211005T142037Z
LAST-MODIFIED:20211005T142037Z
UID:10000245-1634083200-1634169599@www.register-iri.com
SUMMARY:2nd Mare Forum Oslo 2021
DESCRIPTION:
URL:https://www.register-iri.com/event/2nd-mare-forum-oslo-2021/
LOCATION:Grand Hotel Oslo\, Karl Johans gate 31\, Oslo\, 0159\, Norway
CATEGORIES:Conference,Cocktail
END:VEVENT
BEGIN:VEVENT
DTSTART;VALUE=DATE:20211013
DTEND;VALUE=DATE:20211016
DTSTAMP:20260426T004002
CREATED:20210603T190538Z
LAST-MODIFIED:20210603T190538Z
UID:10000624-1634083200-1634342399@www.register-iri.com
SUMMARY:CMA Shipping 2021
DESCRIPTION:
URL:https://www.register-iri.com/event/cma-shipping-2021/
LOCATION:Hilton Stamford Hotel & Executive Meeting Center\, 1 First Stamford Place\, Stamford\, CT\, 06902\, United States
CATEGORIES:Conference,Exhibition
END:VEVENT
BEGIN:VEVENT
DTSTART;TZID=UTC:20211019T080000
DTEND;TZID=UTC:20211021T170000
DTSTAMP:20260426T004002
CREATED:20211005T133559Z
LAST-MODIFIED:20211005T133559Z
UID:10000242-1634630400-1634835600@www.register-iri.com
SUMMARY:2021 SAFETY4SEA VIRTUAL FORUM
DESCRIPTION:
URL:https://www.register-iri.com/event/2021-safety4sea-virtual-forum/
CATEGORIES:Conference,Virtual
END:VEVENT
BEGIN:VEVENT
DTSTART;VALUE=DATE:20211020
DTEND;VALUE=DATE:20211021
DTSTAMP:20260426T004002
CREATED:20210825T145152Z
LAST-MODIFIED:20210927T182834Z
UID:10000228-1634688000-1634774399@www.register-iri.com
SUMMARY:Marine Money - 2021 Greek Ship Finance Forum
DESCRIPTION:
URL:https://www.register-iri.com/event/marine-money-2021-greek-ship-finance-forum/
CATEGORIES:Conference
END:VEVENT
BEGIN:VEVENT
DTSTART;VALUE=DATE:20211027
DTEND;VALUE=DATE:20211030
DTSTAMP:20260426T004002
CREATED:20210826T174234Z
LAST-MODIFIED:20210826T174234Z
UID:10000236-1635292800-1635551999@www.register-iri.com
SUMMARY:SNAME Maritime 2021 Convention
DESCRIPTION:
URL:https://www.register-iri.com/event/sname-maritime-2021-convention/
LOCATION:Rhode Island Convention Center\, 1 Sabin St.\, Providence\, 02903\, United States
CATEGORIES:Conference,Convention
END:VEVENT
END:VCALENDAR