BEGIN:VCALENDAR
VERSION:2.0
PRODID:-//IRI | The Marshall Islands Registry - ECPv6.15.13.1//NONSGML v1.0//EN
CALSCALE:GREGORIAN
METHOD:PUBLISH
X-ORIGINAL-URL:https://www.register-iri.com
X-WR-CALDESC:Events for IRI | The Marshall Islands Registry
REFRESH-INTERVAL;VALUE=DURATION:PT1H
X-Robots-Tag:noindex
X-PUBLISHED-TTL:PT1H
BEGIN:VTIMEZONE
TZID:Europe/London
BEGIN:DAYLIGHT
TZOFFSETFROM:+0000
TZOFFSETTO:+0100
TZNAME:BST
DTSTART:20170326T010000
END:DAYLIGHT
BEGIN:STANDARD
TZOFFSETFROM:+0100
TZOFFSETTO:+0000
TZNAME:GMT
DTSTART:20171029T010000
END:STANDARD
BEGIN:DAYLIGHT
TZOFFSETFROM:+0000
TZOFFSETTO:+0100
TZNAME:BST
DTSTART:20180325T010000
END:DAYLIGHT
BEGIN:STANDARD
TZOFFSETFROM:+0100
TZOFFSETTO:+0000
TZNAME:GMT
DTSTART:20181028T010000
END:STANDARD
BEGIN:DAYLIGHT
TZOFFSETFROM:+0000
TZOFFSETTO:+0100
TZNAME:BST
DTSTART:20190331T010000
END:DAYLIGHT
BEGIN:STANDARD
TZOFFSETFROM:+0100
TZOFFSETTO:+0000
TZNAME:GMT
DTSTART:20191027T010000
END:STANDARD
BEGIN:DAYLIGHT
TZOFFSETFROM:+0000
TZOFFSETTO:+0100
TZNAME:BST
DTSTART:20200329T010000
END:DAYLIGHT
BEGIN:STANDARD
TZOFFSETFROM:+0100
TZOFFSETTO:+0000
TZNAME:GMT
DTSTART:20201025T010000
END:STANDARD
END:VTIMEZONE
BEGIN:VTIMEZONE
TZID:Europe/Athens
BEGIN:DAYLIGHT
TZOFFSETFROM:+0200
TZOFFSETTO:+0300
TZNAME:EEST
DTSTART:20170326T010000
END:DAYLIGHT
BEGIN:STANDARD
TZOFFSETFROM:+0300
TZOFFSETTO:+0200
TZNAME:EET
DTSTART:20171029T010000
END:STANDARD
BEGIN:DAYLIGHT
TZOFFSETFROM:+0200
TZOFFSETTO:+0300
TZNAME:EEST
DTSTART:20180325T010000
END:DAYLIGHT
BEGIN:STANDARD
TZOFFSETFROM:+0300
TZOFFSETTO:+0200
TZNAME:EET
DTSTART:20181028T010000
END:STANDARD
BEGIN:DAYLIGHT
TZOFFSETFROM:+0200
TZOFFSETTO:+0300
TZNAME:EEST
DTSTART:20190331T010000
END:DAYLIGHT
BEGIN:STANDARD
TZOFFSETFROM:+0300
TZOFFSETTO:+0200
TZNAME:EET
DTSTART:20191027T010000
END:STANDARD
END:VTIMEZONE
BEGIN:VEVENT
DTSTART;VALUE=DATE:20181101
DTEND;VALUE=DATE:20181102
DTSTAMP:20260421T081103
CREATED:20181001T000000Z
LAST-MODIFIED:20181001T000000Z
UID:10000442-1541030400-1541116799@www.register-iri.com
SUMMARY:Superyacht Americas Forum
DESCRIPTION:
URL:https://www.register-iri.com/event/superyacht-americas-forum/
LOCATION:Renaissance Fort Lauderdale Cruise Port Hotel\, 1617 SE 17th St\, Ft. Lauderdale\, FL\, 33316\, United States
CATEGORIES:Conference
END:VEVENT
BEGIN:VEVENT
DTSTART;VALUE=DATE:20181101
DTEND;VALUE=DATE:20181102
DTSTAMP:20260421T081103
CREATED:20181001T000000Z
LAST-MODIFIED:20181001T000000Z
UID:10000443-1541030400-1541116799@www.register-iri.com
SUMMARY:Korea Ship Finance Forum
DESCRIPTION:
URL:https://www.register-iri.com/event/korea-ship-finance-forum/
LOCATION:Paradise Hotel\, 296 Haeundaehaebyeon-ro\, Haeundae-gu\,\, Busan\, Republic of Korea
CATEGORIES:Conference
ORGANIZER;CN="Marine Money International":MAILTO:mia@marine -marketing.gr
END:VEVENT
BEGIN:VEVENT
DTSTART;TZID=Europe/London:20181101T183000
DTEND;TZID=Europe/London:20181101T220000
DTSTAMP:20260421T081103
CREATED:20181001T000000Z
LAST-MODIFIED:20181001T000000Z
UID:10000444-1541097000-1541109600@www.register-iri.com
SUMMARY:Tribute to the U.S. Coast Guard in Houston
DESCRIPTION:
URL:https://www.register-iri.com/event/tribute-to-the-u-s-coast-guard-in-houston/
LOCATION:Marriott Marquis Houston\, 1777 Walker St\, Houston\, TX\, 77010\, United States
CATEGORIES:Awards
END:VEVENT
BEGIN:VEVENT
DTSTART;VALUE=DATE:20181106
DTEND;VALUE=DATE:20181108
DTSTAMP:20260421T081103
CREATED:20181001T000000Z
LAST-MODIFIED:20181001T000000Z
UID:10000445-1541462400-1541635199@www.register-iri.com
SUMMARY:Offshore Vessel Connect Global
DESCRIPTION:
URL:https://www.register-iri.com/event/offshore-vessel-connect-global/
LOCATION:Hilton Amsterdam\, Apollolaan 138\, Amsterdam\, 1077 BG\, Netherlands
CATEGORIES:Conference
END:VEVENT
BEGIN:VEVENT
DTSTART;VALUE=DATE:20181107
DTEND;VALUE=DATE:20181110
DTSTAMP:20260421T081103
CREATED:20181001T000000Z
LAST-MODIFIED:20181001T000000Z
UID:10000448-1541548800-1541807999@www.register-iri.com
SUMMARY:IADC Annual General Meeting
DESCRIPTION:
URL:https://www.register-iri.com/event/iadc-annual-general-meeting/
LOCATION:Ritz-Carlton New Orleans\, 921 Canal St\, New Orleans\, LA\, 70112\, United States
CATEGORIES:Meeting
END:VEVENT
BEGIN:VEVENT
DTSTART;VALUE=DATE:20181112
DTEND;VALUE=DATE:20181115
DTSTAMP:20260421T081103
CREATED:20181001T000000Z
LAST-MODIFIED:20181001T000000Z
UID:10000450-1541980800-1542239999@www.register-iri.com
SUMMARY:The Superyacht Forum
DESCRIPTION:
URL:https://www.register-iri.com/event/the-superyacht-forum/
LOCATION:RAI Amsterdam\, Europaplein 24\, Amsterdam\, 1078 GZ\, Netherlands
CATEGORIES:Conference
END:VEVENT
BEGIN:VEVENT
DTSTART;VALUE=DATE:20181112
DTEND;VALUE=DATE:20181115
DTSTAMP:20260421T081103
CREATED:20181001T000000Z
LAST-MODIFIED:20181001T000000Z
UID:10000453-1541980800-1542239999@www.register-iri.com
SUMMARY:South America Energy Week
DESCRIPTION:
URL:https://www.register-iri.com/event/south-america-energy-week/
CATEGORIES:Conference
END:VEVENT
BEGIN:VEVENT
DTSTART;VALUE=DATE:20181112
DTEND;VALUE=DATE:20181115
DTSTAMP:20260421T081103
CREATED:20181001T000000Z
LAST-MODIFIED:20181001T000000Z
UID:10000456-1541980800-1542239999@www.register-iri.com
SUMMARY:Green Ship Technology North America
DESCRIPTION:
URL:https://www.register-iri.com/event/green-ship-technology-north-america/
LOCATION:Intercontinental Times Square\, 300 W 44th St\, New York\, NY\, 10036\, United States
CATEGORIES:Conference
END:VEVENT
BEGIN:VEVENT
DTSTART;VALUE=DATE:20181113
DTEND;VALUE=DATE:20181114
DTSTAMP:20260421T081103
CREATED:20181001T000000Z
LAST-MODIFIED:20181001T000000Z
UID:10000102-1542067200-1542153599@www.register-iri.com
SUMMARY:Shipowners Forums Tokyo
DESCRIPTION:
URL:https://www.register-iri.com/event/shipowners-forums-tokyo/
LOCATION:Conrad Tokyo\, Kazanami ballroom\, 1 Chome-9-１ Higashishinbashi\, Minato\, Tokyo\, 105-7337\, Japan
CATEGORIES:Conference
END:VEVENT
BEGIN:VEVENT
DTSTART;VALUE=DATE:20181113
DTEND;VALUE=DATE:20181115
DTSTAMP:20260421T081103
CREATED:20181001T000000Z
LAST-MODIFIED:20181001T000000Z
UID:10000104-1542067200-1542239999@www.register-iri.com
SUMMARY:Floating Regas & Storage Conference
DESCRIPTION:
URL:https://www.register-iri.com/event/floating-regas-storage-conference/
CATEGORIES:Conference
END:VEVENT
BEGIN:VEVENT
DTSTART;VALUE=DATE:20181114
DTEND;VALUE=DATE:20181115
DTSTAMP:20260421T081103
CREATED:20181001T000000Z
LAST-MODIFIED:20181001T000000Z
UID:10000106-1542153600-1542239999@www.register-iri.com
SUMMARY:Ship Finance Forum
DESCRIPTION:
URL:https://www.register-iri.com/event/ship-finance-forum/
LOCATION:Convene\, 117 West 46th Street\, New York\, NY\, United States
CATEGORIES:Conference
ORGANIZER;CN="Marine Money International":MAILTO:mia@marine -marketing.gr
END:VEVENT
BEGIN:VEVENT
DTSTART;VALUE=DATE:20181119
DTEND;VALUE=DATE:20181120
DTSTAMP:20260421T081103
CREATED:20181001T000000Z
LAST-MODIFIED:20181001T000000Z
UID:10000108-1542585600-1542671999@www.register-iri.com
SUMMARY:Ukrainian Business Forum
DESCRIPTION:
URL:https://www.register-iri.com/event/ukrainian-business-forum/
LOCATION:Congress and Exhibition Center "Parkovy"\, Parkova Rd\, 16a\, Kyiv\, 02000\, Ukraine
CATEGORIES:Conference
END:VEVENT
BEGIN:VEVENT
DTSTART;VALUE=DATE:20181127
DTEND;VALUE=DATE:20181128
DTSTAMP:20260421T081103
CREATED:20181127T000000Z
LAST-MODIFIED:20181127T000000Z
UID:10000110-1543276800-1543363199@www.register-iri.com
SUMMARY:Mare Forum USA 2018
DESCRIPTION:
URL:https://www.register-iri.com/event/mare-forum-usa-2018/
LOCATION:Hilton Houston Post Oak\, 2001 Post Oak Blvd\, Houston\, TX\, 77056\, United States
CATEGORIES:Conference
END:VEVENT
BEGIN:VEVENT
DTSTART;VALUE=DATE:20181128
DTEND;VALUE=DATE:20181201
DTSTAMP:20260421T081103
CREATED:20181127T000000Z
LAST-MODIFIED:20181127T000000Z
UID:10000113-1543363200-1543622399@www.register-iri.com
SUMMARY:International Workboat Show
DESCRIPTION:
URL:https://www.register-iri.com/event/international-workboat-show-2/
LOCATION:New Orleans Ernest N. Morial Convention Center\, 900 Convention Center Blvd\, New Orleans\, LA\, 70130\, United States
CATEGORIES:Conference
END:VEVENT
BEGIN:VEVENT
DTSTART;TZID=Europe/Athens:20181207T190000
DTEND;TZID=Europe/Athens:20181207T230000
DTSTAMP:20260421T081103
CREATED:20181127T000000Z
LAST-MODIFIED:20181127T000000Z
UID:10000116-1544209200-1544223600@www.register-iri.com
SUMMARY:Lloyd's List Greek Shipping Awards 2018
DESCRIPTION:
URL:https://www.register-iri.com/event/lloyds-list-greek-shipping-awards-2018/
LOCATION:Athenaeum InterContinental Hotel\, Syngrou Avenue 89-93\, Athens\, 117 45\, Greece
CATEGORIES:Awards
END:VEVENT
BEGIN:VEVENT
DTSTART;VALUE=DATE:20181211
DTEND;VALUE=DATE:20181212
DTSTAMP:20260421T081103
CREATED:20181129T000000Z
LAST-MODIFIED:20181129T000000Z
UID:10000120-1544486400-1544572799@www.register-iri.com
SUMMARY:ICS 14th Annual Forum "2020\, The Year That Will Change Shipping?"
DESCRIPTION:2020: The year that will change shipping?\nThis year the topic of the event will be centered around all about the changes that are awaiting the sector in 2020. \n 
URL:https://www.register-iri.com/event/ics-14th-annual-forum-2020-the-year-that-will-change-shipping/
LOCATION:Eugenides Foundation\, Leof. Andrea Siggrou 387\, Paleo Faliro\, 175 64\, Greece
CATEGORIES:Seminar
END:VEVENT
BEGIN:VEVENT
DTSTART;VALUE=DATE:20190123
DTEND;VALUE=DATE:20190124
DTSTAMP:20260421T081103
CREATED:20181129T000000Z
LAST-MODIFIED:20181129T000000Z
UID:10000123-1548201600-1548287999@www.register-iri.com
SUMMARY:London Shipping Finance Forum
DESCRIPTION:
URL:https://www.register-iri.com/event/london-shipping-finance-forum/
LOCATION:The Dorchester\, 53 Park Lane\, London\, W1K 1QA\, United Kingdom
CATEGORIES:Conference
ORGANIZER;CN="Marine Money International":MAILTO:mia@marine -marketing.gr
END:VEVENT
BEGIN:VEVENT
DTSTART;VALUE=DATE:20190124
DTEND;VALUE=DATE:20190125
DTSTAMP:20260421T081103
CREATED:20181129T000000Z
LAST-MODIFIED:20181129T000000Z
UID:10000125-1548288000-1548374399@www.register-iri.com
SUMMARY:Tribute to the Seventh Coast Guard District
DESCRIPTION:
URL:https://www.register-iri.com/event/tribute-to-the-seventh-coast-guard-district/
LOCATION:Pier Sixty Six\, 2301 SE 17th Street\, Fort Lauderdale\, FL\, 33316\, United States
CATEGORIES:Awards
END:VEVENT
BEGIN:VEVENT
DTSTART;VALUE=DATE:20190129
DTEND;VALUE=DATE:20190201
DTSTAMP:20260421T081103
CREATED:20181129T000000Z
LAST-MODIFIED:20181129T000000Z
UID:10000459-1548720000-1548979199@www.register-iri.com
SUMMARY:LNG Bunkering Summit
DESCRIPTION:
URL:https://www.register-iri.com/event/lng-bunkering-summit-3/
LOCATION:Novotel Amsterdam City Hotel\, Europaboulevard 10\, Amsterdam\, 1083 AD\, Netherlands
CATEGORIES:Conference
END:VEVENT
BEGIN:VEVENT
DTSTART;VALUE=DATE:20190205
DTEND;VALUE=DATE:20190206
DTSTAMP:20260421T081103
CREATED:20181129T000000Z
LAST-MODIFIED:20181129T000000Z
UID:10000461-1549324800-1549411199@www.register-iri.com
SUMMARY:25th Annual HACC NACC Shipping Conference
DESCRIPTION:HELLENIC-AMERICAN & NORWEGIAN-AMERICAN CHAMBERS OF COMMERCE PRESENT \nThe 25th Annual Shipping Conference\nEmbracing Change: Turning Shipping’s Hopes and Dreams into Reality\nFEBRUARY 5\, 2019
URL:https://www.register-iri.com/event/25th-annual-hacc-nacc-shipping-conference/
LOCATION:Apella\, Alexandria Center\, 450 East 29th Street\, 2nd floor\, New York\, NY\, 10016\, United States
CATEGORIES:Conference
END:VEVENT
BEGIN:VEVENT
DTSTART;VALUE=DATE:20190205
DTEND;VALUE=DATE:20190206
DTSTAMP:20260421T081103
CREATED:20181129T000000Z
LAST-MODIFIED:20181129T000000Z
UID:10000464-1549324800-1549411199@www.register-iri.com
SUMMARY:The European Dynamic Positioning Conference
DESCRIPTION:
URL:https://www.register-iri.com/event/the-european-dynamic-positioning-conference/
LOCATION:Novotel London West Hotel\, 1st floor Champagne Suite\, 1 Shortlands Hammersmith International Centre\, Hammersmith\, London\, W6 8DR\, United Kingdom
CATEGORIES:Conference
END:VEVENT
BEGIN:VEVENT
DTSTART;VALUE=DATE:20190205
DTEND;VALUE=DATE:20190208
DTSTAMP:20260421T081103
CREATED:20181129T000000Z
LAST-MODIFIED:20181129T000000Z
UID:10000467-1549324800-1549583999@www.register-iri.com
SUMMARY:Subsea Expo
DESCRIPTION:
URL:https://www.register-iri.com/event/subsea-expo/
LOCATION:Novotel London West Hotel\, 1st floor Champagne Suite\, 1 Shortlands Hammersmith International Centre\, Hammersmith\, London\, W6 8DR\, United Kingdom
CATEGORIES:Conference
ORGANIZER;CN="Subsea UK":MAILTO:events@subseauk.com
END:VEVENT
BEGIN:VEVENT
DTSTART;VALUE=DATE:20190219
DTEND;VALUE=DATE:20190221
DTSTAMP:20260421T081103
CREATED:20181129T000000Z
LAST-MODIFIED:20181129T000000Z
UID:10000470-1550534400-1550707199@www.register-iri.com
SUMMARY:Japan LNG & Gas
DESCRIPTION:
URL:https://www.register-iri.com/event/japan-lng-gas/
LOCATION:Hilton Tokyo Odaiba\, 1 Chome-9-1 Daiba\, Minato\, Tokyo\, 135-8625\, Japan
END:VEVENT
BEGIN:VEVENT
DTSTART;VALUE=DATE:20190220
DTEND;VALUE=DATE:20190222
DTSTAMP:20260421T081103
CREATED:20181129T000000Z
LAST-MODIFIED:20181129T000000Z
UID:10000473-1550620800-1550793599@www.register-iri.com
SUMMARY:US/Mexico Joint Meeting
DESCRIPTION:
URL:https://www.register-iri.com/event/us-mexico-joint-meeting/
LOCATION:Ritz-Carlton Washington DC\, 1150 22nd Street\, N.W.\, Washington\, DC\, 20037\, United States
CATEGORIES:Meeting
ORGANIZER;CN="International Fiscal Association":MAILTO:info@ifausa.org
END:VEVENT
BEGIN:VEVENT
DTSTART;VALUE=DATE:20190220
DTEND;VALUE=DATE:20190222
DTSTAMP:20260421T081103
CREATED:20181129T000000Z
LAST-MODIFIED:20181129T000000Z
UID:10000478-1550620800-1550793599@www.register-iri.com
SUMMARY:IFA/ USA IFA 2019 Annual Conference
DESCRIPTION:
URL:https://www.register-iri.com/event/ifa-usa-ifa-2019-annual-conference/
LOCATION:Ritz-Carlton Washington DC\, 1150 22nd Street\, N.W.\, Washington\, DC\, 20037\, United States
CATEGORIES:Conference
ORGANIZER;CN="International Fiscal Association":MAILTO:info@ifausa.org
END:VEVENT
BEGIN:VEVENT
DTSTART;VALUE=DATE:20190221
DTEND;VALUE=DATE:20190223
DTSTAMP:20260421T081103
CREATED:20190219T000000Z
LAST-MODIFIED:20190219T000000Z
UID:10000480-1550707200-1550879999@www.register-iri.com
SUMMARY:WealthPro Ukraine
DESCRIPTION:
URL:https://www.register-iri.com/event/wealthpro-ukraine/
LOCATION:Hilton Kyiv\, 30 Tarasa Shevchenka Blvd\, Kyiv\, 01030\, Ukraine
CATEGORIES:Conference
END:VEVENT
BEGIN:VEVENT
DTSTART;VALUE=DATE:20190222
DTEND;VALUE=DATE:20190223
DTSTAMP:20260421T081103
CREATED:20181129T000000Z
LAST-MODIFIED:20181129T000000Z
UID:10000479-1550793600-1550879999@www.register-iri.com
SUMMARY:10th Annual Greek Shipping Forum
DESCRIPTION:
URL:https://www.register-iri.com/event/10th-annual-greek-shipping-forum/
LOCATION:Hilton Hotel Athens\, Leof. Vasilissis Sofias 46\, Athens\, 115 28\, Greece
CATEGORIES:Conference
END:VEVENT
BEGIN:VEVENT
DTSTART;VALUE=DATE:20190223
DTEND;VALUE=DATE:20190224
DTSTAMP:20260421T081103
CREATED:20190221T000000Z
LAST-MODIFIED:20190221T000000Z
UID:10000115-1550880000-1550966399@www.register-iri.com
SUMMARY:Hellenic Engineers Society of Great Britain 24th Anniversary Dinner & Dance
DESCRIPTION:
URL:https://www.register-iri.com/event/hellenic-engineers-society-of-great-britain-24th-anniversary-dinner-dance/
LOCATION:JW Marriott Grosvenor House London\, 86-90 Park Lane\, London\, W1K 7TN\, United Kingdom
CATEGORIES:Awards
END:VEVENT
BEGIN:VEVENT
DTSTART;VALUE=DATE:20190227
DTEND;VALUE=DATE:20190228
DTSTAMP:20260421T081103
CREATED:20190221T000000Z
LAST-MODIFIED:20190221T000000Z
UID:10000118-1551225600-1551311999@www.register-iri.com
SUMMARY:3rd Annual Capital Link Cyprus Shipping Forum
DESCRIPTION:
URL:https://www.register-iri.com/event/3rd-annual-capital-link-cyprus-shipping-forum/
LOCATION:Columbia Plaza\, Agiou Andreou 223\, Limassol\, CY 3730\, Cyprus
CATEGORIES:Conference
END:VEVENT
BEGIN:VEVENT
DTSTART;VALUE=DATE:20190227
DTEND;VALUE=DATE:20190228
DTSTAMP:20260421T081103
CREATED:20190221T000000Z
LAST-MODIFIED:20190221T000000Z
UID:10000121-1551225600-1551311999@www.register-iri.com
SUMMARY:18th Annual German Ship Finance Forum
DESCRIPTION:
URL:https://www.register-iri.com/event/18th-annual-german-ship-finance-forum/
LOCATION:Grand Elysee Hamburg\, Rothenbaumchaussee 10\, Hamburg\, 20148\, Germany
CATEGORIES:Conference
END:VEVENT
END:VCALENDAR