BEGIN:VCALENDAR
VERSION:2.0
PRODID:-//IRI | The Marshall Islands Registry - ECPv6.15.13.1//NONSGML v1.0//EN
CALSCALE:GREGORIAN
METHOD:PUBLISH
X-WR-CALNAME:IRI | The Marshall Islands Registry
X-ORIGINAL-URL:https://www.register-iri.com
X-WR-CALDESC:Events for IRI | The Marshall Islands Registry
REFRESH-INTERVAL;VALUE=DURATION:PT1H
X-Robots-Tag:noindex
X-PUBLISHED-TTL:PT1H
BEGIN:VTIMEZONE
TZID:Europe/Athens
BEGIN:DAYLIGHT
TZOFFSETFROM:+0200
TZOFFSETTO:+0300
TZNAME:EEST
DTSTART:20230326T010000
END:DAYLIGHT
BEGIN:STANDARD
TZOFFSETFROM:+0300
TZOFFSETTO:+0200
TZNAME:EET
DTSTART:20231029T010000
END:STANDARD
BEGIN:DAYLIGHT
TZOFFSETFROM:+0200
TZOFFSETTO:+0300
TZNAME:EEST
DTSTART:20240331T010000
END:DAYLIGHT
BEGIN:STANDARD
TZOFFSETFROM:+0300
TZOFFSETTO:+0200
TZNAME:EET
DTSTART:20241027T010000
END:STANDARD
BEGIN:DAYLIGHT
TZOFFSETFROM:+0200
TZOFFSETTO:+0300
TZNAME:EEST
DTSTART:20250330T010000
END:DAYLIGHT
BEGIN:STANDARD
TZOFFSETFROM:+0300
TZOFFSETTO:+0200
TZNAME:EET
DTSTART:20251026T010000
END:STANDARD
END:VTIMEZONE
BEGIN:VTIMEZONE
TZID:Europe/Malta
BEGIN:DAYLIGHT
TZOFFSETFROM:+0100
TZOFFSETTO:+0200
TZNAME:CEST
DTSTART:20230326T010000
END:DAYLIGHT
BEGIN:STANDARD
TZOFFSETFROM:+0200
TZOFFSETTO:+0100
TZNAME:CET
DTSTART:20231029T010000
END:STANDARD
BEGIN:DAYLIGHT
TZOFFSETFROM:+0100
TZOFFSETTO:+0200
TZNAME:CEST
DTSTART:20240331T010000
END:DAYLIGHT
BEGIN:STANDARD
TZOFFSETFROM:+0200
TZOFFSETTO:+0100
TZNAME:CET
DTSTART:20241027T010000
END:STANDARD
BEGIN:DAYLIGHT
TZOFFSETFROM:+0100
TZOFFSETTO:+0200
TZNAME:CEST
DTSTART:20250330T010000
END:DAYLIGHT
BEGIN:STANDARD
TZOFFSETFROM:+0200
TZOFFSETTO:+0100
TZNAME:CET
DTSTART:20251026T010000
END:STANDARD
END:VTIMEZONE
BEGIN:VEVENT
DTSTART;TZID=Europe/Athens:20240605T113000
DTEND;TZID=Europe/Athens:20240605T133000
DTSTAMP:20260420T212328
CREATED:20240523T050518Z
LAST-MODIFIED:20240529T082723Z
UID:10000815-1717587000-1717594200@www.register-iri.com
SUMMARY:BIMCO Seminar at Posidonia - Today’s contractual solutions for your decarbonisation voyage
DESCRIPTION:
URL:https://www.register-iri.com/event/bimco-seminar-at-posidonia-todays-contractual-solutions-for-your-decarbonisation-voyage/
LOCATION:Posidonia Seminar Room Central\, Metropolitan Expo\, Athens International Airport "El. Venizelos"\, Spata\, Athens\, 190 19\, Greece
CATEGORIES:Seminar
END:VEVENT
BEGIN:VEVENT
DTSTART;TZID=Europe/Malta:20240613T100000
DTEND;TZID=Europe/Malta:20240615T200000
DTSTAMP:20260420T212328
CREATED:20240524T082524Z
LAST-MODIFIED:20240531T072413Z
UID:10000817-1718272800-1718481600@www.register-iri.com
SUMMARY:AIJA Malta - Setting sails in turbulent times
DESCRIPTION:
URL:https://www.register-iri.com/event/aija-malta-setting-sails-in-turbulent-times/
LOCATION:University of Malta's Valletta Campus\, Msida MSD\, 2080\, Malta
CATEGORIES:Seminar
END:VEVENT
END:VCALENDAR