BEGIN:VCALENDAR
VERSION:2.0
PRODID:-//IRI | The Marshall Islands Registry - ECPv6.15.13.1//NONSGML v1.0//EN
CALSCALE:GREGORIAN
METHOD:PUBLISH
X-WR-CALNAME:IRI | The Marshall Islands Registry
X-ORIGINAL-URL:https://www.register-iri.com
X-WR-CALDESC:Events for IRI | The Marshall Islands Registry
REFRESH-INTERVAL;VALUE=DURATION:PT1H
X-Robots-Tag:noindex
X-PUBLISHED-TTL:PT1H
BEGIN:VTIMEZONE
TZID:Asia/Dubai
BEGIN:STANDARD
TZOFFSETFROM:+0400
TZOFFSETTO:+0400
TZNAME:+04
DTSTART:20250101T000000
END:STANDARD
END:VTIMEZONE
BEGIN:VEVENT
DTSTART;VALUE=DATE:20261125
DTEND;VALUE=DATE:20261130
DTSTAMP:20260424T161010
CREATED:20260310T102154Z
LAST-MODIFIED:20260318T082840Z
UID:10001136-1795564800-1795996799@www.register-iri.com
SUMMARY:Dubai International Boat Show 2026
DESCRIPTION:
URL:https://www.register-iri.com/event/dubai-international-boat-show-2026/
LOCATION:Dubai Harbour\, Dubai Harbour\, Dubai\, United Arab Emirates
CATEGORIES:Conference,Yacht Show
END:VEVENT
END:VCALENDAR