BEGIN:VCALENDAR
VERSION:2.0
PRODID:-//IRI | The Marshall Islands Registry - ECPv6.15.13.1//NONSGML v1.0//EN
CALSCALE:GREGORIAN
METHOD:PUBLISH
X-ORIGINAL-URL:https://www.register-iri.com
X-WR-CALDESC:Events for IRI | The Marshall Islands Registry
REFRESH-INTERVAL;VALUE=DURATION:PT1H
X-Robots-Tag:noindex
X-PUBLISHED-TTL:PT1H
BEGIN:VTIMEZONE
TZID:America/New_York
BEGIN:DAYLIGHT
TZOFFSETFROM:-0500
TZOFFSETTO:-0400
TZNAME:EDT
DTSTART:20250309T070000
END:DAYLIGHT
BEGIN:STANDARD
TZOFFSETFROM:-0400
TZOFFSETTO:-0500
TZNAME:EST
DTSTART:20251102T060000
END:STANDARD
BEGIN:DAYLIGHT
TZOFFSETFROM:-0500
TZOFFSETTO:-0400
TZNAME:EDT
DTSTART:20260308T070000
END:DAYLIGHT
BEGIN:STANDARD
TZOFFSETFROM:-0400
TZOFFSETTO:-0500
TZNAME:EST
DTSTART:20261101T060000
END:STANDARD
BEGIN:DAYLIGHT
TZOFFSETFROM:-0500
TZOFFSETTO:-0400
TZNAME:EDT
DTSTART:20270314T070000
END:DAYLIGHT
BEGIN:STANDARD
TZOFFSETFROM:-0400
TZOFFSETTO:-0500
TZNAME:EST
DTSTART:20271107T060000
END:STANDARD
END:VTIMEZONE
BEGIN:VTIMEZONE
TZID:Africa/Cairo
BEGIN:DAYLIGHT
TZOFFSETFROM:+0200
TZOFFSETTO:+0300
TZNAME:EEST
DTSTART:20250424T220000
END:DAYLIGHT
BEGIN:STANDARD
TZOFFSETFROM:+0300
TZOFFSETTO:+0200
TZNAME:EET
DTSTART:20251030T210000
END:STANDARD
BEGIN:DAYLIGHT
TZOFFSETFROM:+0200
TZOFFSETTO:+0300
TZNAME:EEST
DTSTART:20260423T220000
END:DAYLIGHT
BEGIN:STANDARD
TZOFFSETFROM:+0300
TZOFFSETTO:+0200
TZNAME:EET
DTSTART:20261029T210000
END:STANDARD
BEGIN:DAYLIGHT
TZOFFSETFROM:+0200
TZOFFSETTO:+0300
TZNAME:EEST
DTSTART:20270429T220000
END:DAYLIGHT
BEGIN:STANDARD
TZOFFSETFROM:+0300
TZOFFSETTO:+0200
TZNAME:EET
DTSTART:20271028T210000
END:STANDARD
END:VTIMEZONE
BEGIN:VTIMEZONE
TZID:Europe/Amsterdam
BEGIN:DAYLIGHT
TZOFFSETFROM:+0100
TZOFFSETTO:+0200
TZNAME:CEST
DTSTART:20250330T010000
END:DAYLIGHT
BEGIN:STANDARD
TZOFFSETFROM:+0200
TZOFFSETTO:+0100
TZNAME:CET
DTSTART:20251026T010000
END:STANDARD
BEGIN:DAYLIGHT
TZOFFSETFROM:+0100
TZOFFSETTO:+0200
TZNAME:CEST
DTSTART:20260329T010000
END:DAYLIGHT
BEGIN:STANDARD
TZOFFSETFROM:+0200
TZOFFSETTO:+0100
TZNAME:CET
DTSTART:20261025T010000
END:STANDARD
BEGIN:DAYLIGHT
TZOFFSETFROM:+0100
TZOFFSETTO:+0200
TZNAME:CEST
DTSTART:20270328T010000
END:DAYLIGHT
BEGIN:STANDARD
TZOFFSETFROM:+0200
TZOFFSETTO:+0100
TZNAME:CET
DTSTART:20271031T010000
END:STANDARD
END:VTIMEZONE
BEGIN:VTIMEZONE
TZID:Europe/Helsinki
BEGIN:DAYLIGHT
TZOFFSETFROM:+0200
TZOFFSETTO:+0300
TZNAME:EEST
DTSTART:20250330T010000
END:DAYLIGHT
BEGIN:STANDARD
TZOFFSETFROM:+0300
TZOFFSETTO:+0200
TZNAME:EET
DTSTART:20251026T010000
END:STANDARD
BEGIN:DAYLIGHT
TZOFFSETFROM:+0200
TZOFFSETTO:+0300
TZNAME:EEST
DTSTART:20260329T010000
END:DAYLIGHT
BEGIN:STANDARD
TZOFFSETFROM:+0300
TZOFFSETTO:+0200
TZNAME:EET
DTSTART:20261025T010000
END:STANDARD
BEGIN:DAYLIGHT
TZOFFSETFROM:+0200
TZOFFSETTO:+0300
TZNAME:EEST
DTSTART:20270328T010000
END:DAYLIGHT
BEGIN:STANDARD
TZOFFSETFROM:+0300
TZOFFSETTO:+0200
TZNAME:EET
DTSTART:20271031T010000
END:STANDARD
END:VTIMEZONE
BEGIN:VTIMEZONE
TZID:Europe/Athens
BEGIN:DAYLIGHT
TZOFFSETFROM:+0200
TZOFFSETTO:+0300
TZNAME:EEST
DTSTART:20250330T010000
END:DAYLIGHT
BEGIN:STANDARD
TZOFFSETFROM:+0300
TZOFFSETTO:+0200
TZNAME:EET
DTSTART:20251026T010000
END:STANDARD
BEGIN:DAYLIGHT
TZOFFSETFROM:+0200
TZOFFSETTO:+0300
TZNAME:EEST
DTSTART:20260329T010000
END:DAYLIGHT
BEGIN:STANDARD
TZOFFSETFROM:+0300
TZOFFSETTO:+0200
TZNAME:EET
DTSTART:20261025T010000
END:STANDARD
BEGIN:DAYLIGHT
TZOFFSETFROM:+0200
TZOFFSETTO:+0300
TZNAME:EEST
DTSTART:20270328T010000
END:DAYLIGHT
BEGIN:STANDARD
TZOFFSETFROM:+0300
TZOFFSETTO:+0200
TZNAME:EET
DTSTART:20271031T010000
END:STANDARD
END:VTIMEZONE
BEGIN:VTIMEZONE
TZID:America/Sao_Paulo
BEGIN:STANDARD
TZOFFSETFROM:-0300
TZOFFSETTO:-0300
TZNAME:-03
DTSTART:20250101T000000
END:STANDARD
END:VTIMEZONE
BEGIN:VTIMEZONE
TZID:Europe/Paris
BEGIN:DAYLIGHT
TZOFFSETFROM:+0100
TZOFFSETTO:+0200
TZNAME:CEST
DTSTART:20250330T010000
END:DAYLIGHT
BEGIN:STANDARD
TZOFFSETFROM:+0200
TZOFFSETTO:+0100
TZNAME:CET
DTSTART:20251026T010000
END:STANDARD
BEGIN:DAYLIGHT
TZOFFSETFROM:+0100
TZOFFSETTO:+0200
TZNAME:CEST
DTSTART:20260329T010000
END:DAYLIGHT
BEGIN:STANDARD
TZOFFSETFROM:+0200
TZOFFSETTO:+0100
TZNAME:CET
DTSTART:20261025T010000
END:STANDARD
BEGIN:DAYLIGHT
TZOFFSETFROM:+0100
TZOFFSETTO:+0200
TZNAME:CEST
DTSTART:20270328T010000
END:DAYLIGHT
BEGIN:STANDARD
TZOFFSETFROM:+0200
TZOFFSETTO:+0100
TZNAME:CET
DTSTART:20271031T010000
END:STANDARD
END:VTIMEZONE
BEGIN:VTIMEZONE
TZID:Europe/London
BEGIN:DAYLIGHT
TZOFFSETFROM:+0000
TZOFFSETTO:+0100
TZNAME:BST
DTSTART:20250330T010000
END:DAYLIGHT
BEGIN:STANDARD
TZOFFSETFROM:+0100
TZOFFSETTO:+0000
TZNAME:GMT
DTSTART:20251026T010000
END:STANDARD
BEGIN:DAYLIGHT
TZOFFSETFROM:+0000
TZOFFSETTO:+0100
TZNAME:BST
DTSTART:20260329T010000
END:DAYLIGHT
BEGIN:STANDARD
TZOFFSETFROM:+0100
TZOFFSETTO:+0000
TZNAME:GMT
DTSTART:20261025T010000
END:STANDARD
BEGIN:DAYLIGHT
TZOFFSETFROM:+0000
TZOFFSETTO:+0100
TZNAME:BST
DTSTART:20270328T010000
END:DAYLIGHT
BEGIN:STANDARD
TZOFFSETFROM:+0100
TZOFFSETTO:+0000
TZNAME:GMT
DTSTART:20271031T010000
END:STANDARD
END:VTIMEZONE
BEGIN:VTIMEZONE
TZID:Asia/Shanghai
BEGIN:STANDARD
TZOFFSETFROM:+0800
TZOFFSETTO:+0800
TZNAME:CST
DTSTART:20250101T000000
END:STANDARD
END:VTIMEZONE
BEGIN:VTIMEZONE
TZID:Europe/Istanbul
BEGIN:STANDARD
TZOFFSETFROM:+0300
TZOFFSETTO:+0300
TZNAME:+03
DTSTART:20250101T000000
END:STANDARD
END:VTIMEZONE
BEGIN:VEVENT
DTSTART;VALUE=DATE:20260504
DTEND;VALUE=DATE:20260508
DTSTAMP:20260422T052245
CREATED:20260211T062945Z
LAST-MODIFIED:20260219T064908Z
UID:10001100-1777852800-1778198399@www.register-iri.com
SUMMARY:Offshore Technology Conference 2026
DESCRIPTION:
URL:https://www.register-iri.com/event/otc-2026/
LOCATION:NRG Park\, 3 NRG Pkwy\, Houston\, TX\, 77054\, United States
CATEGORIES:Conference,Exhibition
END:VEVENT
BEGIN:VEVENT
DTSTART;VALUE=DATE:20260505
DTEND;VALUE=DATE:20260506
DTSTAMP:20260422T052245
CREATED:20260204T092836Z
LAST-MODIFIED:20260219T072221Z
UID:10001101-1777939200-1778025599@www.register-iri.com
SUMMARY:InvestPro Egypt Cairo 2026
DESCRIPTION:
URL:https://www.register-iri.com/event/investpro-egypt-cairo-2026/
LOCATION:InterContinental Cairo Semiramis\, Corniche El Nil\, Cairo\, 11511\, Egypt
CATEGORIES:Conference
END:VEVENT
BEGIN:VEVENT
DTSTART;VALUE=DATE:20260505
DTEND;VALUE=DATE:20260508
DTSTAMP:20260422T052245
CREATED:20260211T080855Z
LAST-MODIFIED:20260219T075407Z
UID:10001108-1777939200-1778198399@www.register-iri.com
SUMMARY:Global Maritime Decarbonisation Summit 2026
DESCRIPTION:
URL:https://www.register-iri.com/event/global-maritime-decarbonisation-summit-2026/
LOCATION:Novotel Amsterdam City Hotel\, Europaboulevard 10\, Amsterdam\, 1083 AD\, Netherlands
CATEGORIES:Conference
END:VEVENT
BEGIN:VEVENT
DTSTART;VALUE=DATE:20260506
DTEND;VALUE=DATE:20260508
DTSTAMP:20260422T052245
CREATED:20260204T093319Z
LAST-MODIFIED:20260219T080416Z
UID:10001102-1778025600-1778198399@www.register-iri.com
SUMMARY:STEP Alpine  Conference
DESCRIPTION:
URL:https://www.register-iri.com/event/step-alpine-conference/
LOCATION:Congress Kursaal Interlaken\, Strandbadstrasse 44\, Interlaken\, 3800\, Switzerland
CATEGORIES:Conference
END:VEVENT
BEGIN:VEVENT
DTSTART;VALUE=DATE:20260506
DTEND;VALUE=DATE:20260508
DTSTAMP:20260422T052245
CREATED:20260216T111441Z
LAST-MODIFIED:20260216T111441Z
UID:10001121-1778025600-1778198399@www.register-iri.com
SUMMARY:Marine Insurance Greece
DESCRIPTION:
URL:https://www.register-iri.com/event/marine-insurance-greece-3/
LOCATION:Eugenides Foundation\, Leof. Andrea Siggrou 387\, Paleo Faliro\, 175 64\, Greece
CATEGORIES:Conference
END:VEVENT
BEGIN:VEVENT
DTSTART;VALUE=DATE:20260506
DTEND;VALUE=DATE:20260509
DTSTAMP:20260422T052245
CREATED:20260402T095922Z
LAST-MODIFIED:20260402T101526Z
UID:10001150-1778025600-1778284799@www.register-iri.com
SUMMARY:2026 WISTA USA AGM & Conference
DESCRIPTION:
URL:https://www.register-iri.com/event/2026-wista-usa-agm-conference/
LOCATION:Westin Canal Place New Orleans\, 100 Iberville Street\, New Orleans\, LA\, 70130\, United States
CATEGORIES:Conference
END:VEVENT
BEGIN:VEVENT
DTSTART;VALUE=DATE:20260508
DTEND;VALUE=DATE:20260509
DTSTAMP:20260422T052245
CREATED:20260109T095122Z
LAST-MODIFIED:20260420T071756Z
UID:10001081-1778198400-1778284799@www.register-iri.com
SUMMARY:1st Mare Forum Chios 2026
DESCRIPTION:
URL:https://www.register-iri.com/event/1st-mare-forum-chios/
LOCATION:Chios Chandris Hotel:\, Prokymea\, Chios\, 821 00\, Greece
CATEGORIES:Conference
END:VEVENT
BEGIN:VEVENT
DTSTART;TZID=America/Sao_Paulo:20260512T080000
DTEND;TZID=America/Sao_Paulo:20260515T170000
DTSTAMP:20260422T052245
CREATED:20260402T104148Z
LAST-MODIFIED:20260402T104825Z
UID:10001151-1778572800-1778864400@www.register-iri.com
SUMMARY:Comité Maritime International RIO 2026
DESCRIPTION:
URL:https://www.register-iri.com/event/comite-maritime-international-rio-2026/
LOCATION:Windsor Barra\, Rio de Janeiro\, Brazil\, Av. Lúcio Costa 2630\, CEP 22620-172\, Brazil
CATEGORIES:Conference
END:VEVENT
BEGIN:VEVENT
DTSTART;VALUE=DATE:20260513
DTEND;VALUE=DATE:20260515
DTSTAMP:20260422T052245
CREATED:20260216T101249Z
LAST-MODIFIED:20260327T093008Z
UID:10001118-1778630400-1778803199@www.register-iri.com
SUMMARY:STEP Italy Conference
DESCRIPTION:
URL:https://www.register-iri.com/event/step-italy-conference/
LOCATION:Leonardo da Vinci Museum of Science and Technology\, Via San Vittore 21\, Milano\, 20123\, Italy
CATEGORIES:Conference
END:VEVENT
BEGIN:VEVENT
DTSTART;VALUE=DATE:20260514
DTEND;VALUE=DATE:20260515
DTSTAMP:20260422T052245
CREATED:20260312T093556Z
LAST-MODIFIED:20260312T093556Z
UID:10001137-1778716800-1778803199@www.register-iri.com
SUMMARY:Floating Energy Forum 2026
DESCRIPTION:
URL:https://www.register-iri.com/event/floating-energy-forum-2026/
LOCATION:Norton Rose Fulbright LLP - London\, 3 More London Riverside\, London\, SE1 2AQ\, United Kingdom
CATEGORIES:Conference
END:VEVENT
BEGIN:VEVENT
DTSTART;VALUE=DATE:20260515
DTEND;VALUE=DATE:20260517
DTSTAMP:20260422T052245
CREATED:20260415T061442Z
LAST-MODIFIED:20260415T061442Z
UID:10001160-1778803200-1778975999@www.register-iri.com
SUMMARY:Enmore Maritime Conference 2026
DESCRIPTION:
URL:https://www.register-iri.com/event/enmore-maritime-conference-2026/
CATEGORIES:Conference
END:VEVENT
BEGIN:VEVENT
DTSTART;VALUE=DATE:20260519
DTEND;VALUE=DATE:20260520
DTSTAMP:20260422T052245
CREATED:20260226T095647Z
LAST-MODIFIED:20260226T100343Z
UID:10001129-1779148800-1779235199@www.register-iri.com
SUMMARY:FPSO EXPO BRASIL: Epicentro Global de FPSOs
DESCRIPTION:
URL:https://www.register-iri.com/event/fpso-expo-brasil-epicentro-global-de-fpsos/
LOCATION:ExpoRio Cidade Nova\, R. Beatriz Larragoiti Lucas\, s/n - Cidade Nova\, Rio de Janeiro\, RJ\, 20211-175\, Brazil
CATEGORIES:Conference
END:VEVENT
BEGIN:VEVENT
DTSTART;VALUE=DATE:20260519
DTEND;VALUE=DATE:20260523
DTSTAMP:20260422T052245
CREATED:20260204T093828Z
LAST-MODIFIED:20260225T092703Z
UID:10001103-1779148800-1779494399@www.register-iri.com
SUMMARY:FPSO Brazil Congress
DESCRIPTION:
URL:https://www.register-iri.com/event/fpso-brazil-congress/
LOCATION:Windsor Barra\, Rio de Janeiro\, Brazil\, Av. Lúcio Costa 2630\, CEP 22620-172\, Brazil
CATEGORIES:Conference
END:VEVENT
BEGIN:VEVENT
DTSTART;VALUE=DATE:20260520
DTEND;VALUE=DATE:20260521
DTSTAMP:20260422T052245
CREATED:20260216T103309Z
LAST-MODIFIED:20260216T103801Z
UID:10001119-1779235200-1779321599@www.register-iri.com
SUMMARY:12th International Compliance Forum
DESCRIPTION:
URL:https://www.register-iri.com/event/12th-international-compliance-forum/
LOCATION:Parklane\, a Luxury Collection Resort & Spa\, Limassol\, 11 Giannou Kranidioti Street\, Limassol\, 4534\, Cyprus
CATEGORIES:Conference
END:VEVENT
BEGIN:VEVENT
DTSTART;VALUE=DATE:20260520
DTEND;VALUE=DATE:20260521
DTSTAMP:20260422T052245
CREATED:20260420T112952Z
LAST-MODIFIED:20260420T113711Z
UID:10001163-1779235200-1779321599@www.register-iri.com
SUMMARY:10th Naftemporiki Shipping Conference - Shipping Between Global Powers
DESCRIPTION:
URL:https://www.register-iri.com/event/10th-naftemporiki-shipping-conference-shipping-between-global-powers/
LOCATION:Four Seasons Astir Palace Hotel Athens\, Nafsika Ballroom\, 40 Apollonos Street\, Vouliagmeni\, 16671\, Greece
CATEGORIES:Conference
END:VEVENT
BEGIN:VEVENT
DTSTART;VALUE=DATE:20260521
DTEND;VALUE=DATE:20260522
DTSTAMP:20260422T052245
CREATED:20260216T111151Z
LAST-MODIFIED:20260216T111151Z
UID:10001120-1779321600-1779407999@www.register-iri.com
SUMMARY:10th Mare Forum Istanbul 2026
DESCRIPTION:
URL:https://www.register-iri.com/event/10th-mare-forum-istanbul-2026/
CATEGORIES:Conference
END:VEVENT
BEGIN:VEVENT
DTSTART;VALUE=DATE:20260522
DTEND;VALUE=DATE:20260523
DTSTAMP:20260422T052245
CREATED:20260316T070024Z
LAST-MODIFIED:20260406T075544Z
UID:10001145-1779408000-1779494399@www.register-iri.com
SUMMARY:4th Super Yacht Turkiye 2026
DESCRIPTION:
URL:https://www.register-iri.com/event/4th-super-yacht-turkiye-2026/
LOCATION:Crowne Plaza Istanbul - Asia by IHG\, Yenişehir\, Dedepaşa Cd No:15\, Pendik/İstanbul\, 34912\, Turkey
CATEGORIES:Conference
END:VEVENT
BEGIN:VEVENT
DTSTART;VALUE=DATE:20260601
DTEND;VALUE=DATE:20260602
DTSTAMP:20260422T052245
CREATED:20260216T112832Z
LAST-MODIFIED:20260216T112832Z
UID:10001124-1780272000-1780358399@www.register-iri.com
SUMMARY:10th Capital Link Maritime Leaders Summit – Greece
DESCRIPTION:
URL:https://www.register-iri.com/event/10th-capital-link-maritime-leaders-summit-greece/
LOCATION:InterContinental Athenaeum Athens\, Syngrou Avenue 89-93\, Athens\, 117 45\, Greece
CATEGORIES:Conference
END:VEVENT
BEGIN:VEVENT
DTSTART;VALUE=DATE:20260601
DTEND;VALUE=DATE:20260606
DTSTAMP:20260422T052245
CREATED:20260109T095532Z
LAST-MODIFIED:20260318T041516Z
UID:10001082-1780272000-1780703999@www.register-iri.com
SUMMARY:Posidonia 2026
DESCRIPTION:
URL:https://www.register-iri.com/event/posidonia-2026/
LOCATION:ATHENS METROPOLITAN EXPO A.E\, Athens International Airport "El. Venizelos"\, Spata\, 190 19\, Greece
CATEGORIES:Conference,Exhibition,Convention
END:VEVENT
END:VCALENDAR