BEGIN:VCALENDAR
VERSION:2.0
PRODID:-//IRI | The Marshall Islands Registry - ECPv6.15.13.1//NONSGML v1.0//EN
CALSCALE:GREGORIAN
METHOD:PUBLISH
X-WR-CALNAME:IRI | The Marshall Islands Registry
X-ORIGINAL-URL:https://www.register-iri.com
X-WR-CALDESC:Events for IRI | The Marshall Islands Registry
REFRESH-INTERVAL;VALUE=DURATION:PT1H
X-Robots-Tag:noindex
X-PUBLISHED-TTL:PT1H
BEGIN:VTIMEZONE
TZID:Europe/London
BEGIN:DAYLIGHT
TZOFFSETFROM:+0000
TZOFFSETTO:+0100
TZNAME:BST
DTSTART:20250330T010000
END:DAYLIGHT
BEGIN:STANDARD
TZOFFSETFROM:+0100
TZOFFSETTO:+0000
TZNAME:GMT
DTSTART:20251026T010000
END:STANDARD
BEGIN:DAYLIGHT
TZOFFSETFROM:+0000
TZOFFSETTO:+0100
TZNAME:BST
DTSTART:20260329T010000
END:DAYLIGHT
BEGIN:STANDARD
TZOFFSETFROM:+0100
TZOFFSETTO:+0000
TZNAME:GMT
DTSTART:20261025T010000
END:STANDARD
BEGIN:DAYLIGHT
TZOFFSETFROM:+0000
TZOFFSETTO:+0100
TZNAME:BST
DTSTART:20270328T010000
END:DAYLIGHT
BEGIN:STANDARD
TZOFFSETFROM:+0100
TZOFFSETTO:+0000
TZNAME:GMT
DTSTART:20271031T010000
END:STANDARD
END:VTIMEZONE
BEGIN:VTIMEZONE
TZID:Europe/Athens
BEGIN:DAYLIGHT
TZOFFSETFROM:+0200
TZOFFSETTO:+0300
TZNAME:EEST
DTSTART:20250330T010000
END:DAYLIGHT
BEGIN:STANDARD
TZOFFSETFROM:+0300
TZOFFSETTO:+0200
TZNAME:EET
DTSTART:20251026T010000
END:STANDARD
BEGIN:DAYLIGHT
TZOFFSETFROM:+0200
TZOFFSETTO:+0300
TZNAME:EEST
DTSTART:20260329T010000
END:DAYLIGHT
BEGIN:STANDARD
TZOFFSETFROM:+0300
TZOFFSETTO:+0200
TZNAME:EET
DTSTART:20261025T010000
END:STANDARD
BEGIN:DAYLIGHT
TZOFFSETFROM:+0200
TZOFFSETTO:+0300
TZNAME:EEST
DTSTART:20270328T010000
END:DAYLIGHT
BEGIN:STANDARD
TZOFFSETFROM:+0300
TZOFFSETTO:+0200
TZNAME:EET
DTSTART:20271031T010000
END:STANDARD
END:VTIMEZONE
BEGIN:VTIMEZONE
TZID:America/New_York
BEGIN:DAYLIGHT
TZOFFSETFROM:-0500
TZOFFSETTO:-0400
TZNAME:EDT
DTSTART:20250309T070000
END:DAYLIGHT
BEGIN:STANDARD
TZOFFSETFROM:-0400
TZOFFSETTO:-0500
TZNAME:EST
DTSTART:20251102T060000
END:STANDARD
BEGIN:DAYLIGHT
TZOFFSETFROM:-0500
TZOFFSETTO:-0400
TZNAME:EDT
DTSTART:20260308T070000
END:DAYLIGHT
BEGIN:STANDARD
TZOFFSETFROM:-0400
TZOFFSETTO:-0500
TZNAME:EST
DTSTART:20261101T060000
END:STANDARD
BEGIN:DAYLIGHT
TZOFFSETFROM:-0500
TZOFFSETTO:-0400
TZNAME:EDT
DTSTART:20270314T070000
END:DAYLIGHT
BEGIN:STANDARD
TZOFFSETFROM:-0400
TZOFFSETTO:-0500
TZNAME:EST
DTSTART:20271107T060000
END:STANDARD
END:VTIMEZONE
BEGIN:VTIMEZONE
TZID:America/Halifax
BEGIN:DAYLIGHT
TZOFFSETFROM:-0400
TZOFFSETTO:-0300
TZNAME:ADT
DTSTART:20250309T060000
END:DAYLIGHT
BEGIN:STANDARD
TZOFFSETFROM:-0300
TZOFFSETTO:-0400
TZNAME:AST
DTSTART:20251102T050000
END:STANDARD
BEGIN:DAYLIGHT
TZOFFSETFROM:-0400
TZOFFSETTO:-0300
TZNAME:ADT
DTSTART:20260308T060000
END:DAYLIGHT
BEGIN:STANDARD
TZOFFSETFROM:-0300
TZOFFSETTO:-0400
TZNAME:AST
DTSTART:20261101T050000
END:STANDARD
BEGIN:DAYLIGHT
TZOFFSETFROM:-0400
TZOFFSETTO:-0300
TZNAME:ADT
DTSTART:20270314T060000
END:DAYLIGHT
BEGIN:STANDARD
TZOFFSETFROM:-0300
TZOFFSETTO:-0400
TZNAME:AST
DTSTART:20271107T050000
END:STANDARD
END:VTIMEZONE
BEGIN:VTIMEZONE
TZID:Asia/Shanghai
BEGIN:STANDARD
TZOFFSETFROM:+0800
TZOFFSETTO:+0800
TZNAME:CST
DTSTART:20250101T000000
END:STANDARD
END:VTIMEZONE
BEGIN:VTIMEZONE
TZID:America/Sao_Paulo
BEGIN:STANDARD
TZOFFSETFROM:-0300
TZOFFSETTO:-0300
TZNAME:-03
DTSTART:20250101T000000
END:STANDARD
END:VTIMEZONE
BEGIN:VTIMEZONE
TZID:Europe/Amsterdam
BEGIN:DAYLIGHT
TZOFFSETFROM:+0100
TZOFFSETTO:+0200
TZNAME:CEST
DTSTART:20250330T010000
END:DAYLIGHT
BEGIN:STANDARD
TZOFFSETFROM:+0200
TZOFFSETTO:+0100
TZNAME:CET
DTSTART:20251026T010000
END:STANDARD
BEGIN:DAYLIGHT
TZOFFSETFROM:+0100
TZOFFSETTO:+0200
TZNAME:CEST
DTSTART:20260329T010000
END:DAYLIGHT
BEGIN:STANDARD
TZOFFSETFROM:+0200
TZOFFSETTO:+0100
TZNAME:CET
DTSTART:20261025T010000
END:STANDARD
BEGIN:DAYLIGHT
TZOFFSETFROM:+0100
TZOFFSETTO:+0200
TZNAME:CEST
DTSTART:20270328T010000
END:DAYLIGHT
BEGIN:STANDARD
TZOFFSETFROM:+0200
TZOFFSETTO:+0100
TZNAME:CET
DTSTART:20271031T010000
END:STANDARD
END:VTIMEZONE
BEGIN:VTIMEZONE
TZID:Europe/Monaco
BEGIN:DAYLIGHT
TZOFFSETFROM:+0100
TZOFFSETTO:+0200
TZNAME:CEST
DTSTART:20250330T010000
END:DAYLIGHT
BEGIN:STANDARD
TZOFFSETFROM:+0200
TZOFFSETTO:+0100
TZNAME:CET
DTSTART:20251026T010000
END:STANDARD
BEGIN:DAYLIGHT
TZOFFSETFROM:+0100
TZOFFSETTO:+0200
TZNAME:CEST
DTSTART:20260329T010000
END:DAYLIGHT
BEGIN:STANDARD
TZOFFSETFROM:+0200
TZOFFSETTO:+0100
TZNAME:CET
DTSTART:20261025T010000
END:STANDARD
BEGIN:DAYLIGHT
TZOFFSETFROM:+0100
TZOFFSETTO:+0200
TZNAME:CEST
DTSTART:20270328T010000
END:DAYLIGHT
BEGIN:STANDARD
TZOFFSETFROM:+0200
TZOFFSETTO:+0100
TZNAME:CET
DTSTART:20271031T010000
END:STANDARD
END:VTIMEZONE
BEGIN:VTIMEZONE
TZID:Europe/Paris
BEGIN:DAYLIGHT
TZOFFSETFROM:+0100
TZOFFSETTO:+0200
TZNAME:CEST
DTSTART:20250330T010000
END:DAYLIGHT
BEGIN:STANDARD
TZOFFSETFROM:+0200
TZOFFSETTO:+0100
TZNAME:CET
DTSTART:20251026T010000
END:STANDARD
BEGIN:DAYLIGHT
TZOFFSETFROM:+0100
TZOFFSETTO:+0200
TZNAME:CEST
DTSTART:20260329T010000
END:DAYLIGHT
BEGIN:STANDARD
TZOFFSETFROM:+0200
TZOFFSETTO:+0100
TZNAME:CET
DTSTART:20261025T010000
END:STANDARD
BEGIN:DAYLIGHT
TZOFFSETFROM:+0100
TZOFFSETTO:+0200
TZNAME:CEST
DTSTART:20270328T010000
END:DAYLIGHT
BEGIN:STANDARD
TZOFFSETFROM:+0200
TZOFFSETTO:+0100
TZNAME:CET
DTSTART:20271031T010000
END:STANDARD
END:VTIMEZONE
BEGIN:VTIMEZONE
TZID:America/New_York
BEGIN:DAYLIGHT
TZOFFSETFROM:-0500
TZOFFSETTO:-0400
TZNAME:EDT
DTSTART:20250309T070000
END:DAYLIGHT
BEGIN:STANDARD
TZOFFSETFROM:-0400
TZOFFSETTO:-0500
TZNAME:EST
DTSTART:20251102T060000
END:STANDARD
BEGIN:DAYLIGHT
TZOFFSETFROM:-0500
TZOFFSETTO:-0400
TZNAME:EDT
DTSTART:20260308T070000
END:DAYLIGHT
BEGIN:STANDARD
TZOFFSETFROM:-0400
TZOFFSETTO:-0500
TZNAME:EST
DTSTART:20261101T060000
END:STANDARD
BEGIN:DAYLIGHT
TZOFFSETFROM:-0500
TZOFFSETTO:-0400
TZNAME:EDT
DTSTART:20270314T070000
END:DAYLIGHT
BEGIN:STANDARD
TZOFFSETFROM:-0400
TZOFFSETTO:-0500
TZNAME:EST
DTSTART:20271107T060000
END:STANDARD
END:VTIMEZONE
BEGIN:VTIMEZONE
TZID:UTC
BEGIN:STANDARD
TZOFFSETFROM:+0000
TZOFFSETTO:+0000
TZNAME:UTC
DTSTART:20250101T000000
END:STANDARD
END:VTIMEZONE
BEGIN:VEVENT
DTSTART;VALUE=DATE:20260303
DTEND;VALUE=DATE:20260305
DTSTAMP:20260424T090615
CREATED:20260121T083622Z
LAST-MODIFIED:20260225T124544Z
UID:10001091-1772496000-1772668799@www.register-iri.com
SUMMARY:Superyacht Investor London 2026
DESCRIPTION:
URL:https://www.register-iri.com/event/superyacht-investor-london-2026/
LOCATION:London\, London\, United Kingdom
CATEGORIES:Conference
END:VEVENT
BEGIN:VEVENT
DTSTART;VALUE=DATE:20260304
DTEND;VALUE=DATE:20260305
DTSTAMP:20260424T090615
CREATED:20260213T101713Z
LAST-MODIFIED:20260220T070452Z
UID:10001113-1772582400-1772668799@www.register-iri.com
SUMMARY:9th Slide2Open Shipping Finance Conference
DESCRIPTION:
URL:https://www.register-iri.com/event/9th-slide2open-shipping-finance-conference/
LOCATION:InterContinental Athenaeum Athens\, Syngrou Avenue 89-93\, Athens\, 117 45\, Greece
CATEGORIES:Conference
END:VEVENT
BEGIN:VEVENT
DTSTART;VALUE=DATE:20260305
DTEND;VALUE=DATE:20260306
DTSTAMP:20260424T090615
CREATED:20260213T102433Z
LAST-MODIFIED:20260219T051156Z
UID:10001114-1772668800-1772755199@www.register-iri.com
SUMMARY:The Economist Shipping Summit
DESCRIPTION:
URL:https://www.register-iri.com/event/the-economist-shipping-summit/
LOCATION:Divani Apollon Palace and Thalasso\, Agiou Nikolaou 10\, Vouliagmeni\, 166 71\, Greece
CATEGORIES:Conference
END:VEVENT
BEGIN:VEVENT
DTSTART;VALUE=DATE:20260309
DTEND;VALUE=DATE:20260310
DTSTAMP:20260424T090615
CREATED:20260223T051921Z
LAST-MODIFIED:20260223T053115Z
UID:10001125-1773014400-1773100799@www.register-iri.com
SUMMARY:20th Annual Capital Link International Shipping Forum
DESCRIPTION:
URL:https://www.register-iri.com/event/20th-annual-capital-link-international-shipping-forum/
LOCATION:Metropolitan Club New York\, One East Sixtieth Street\, New York\, NY\, 10022-1054\, United States
CATEGORIES:Conference
END:VEVENT
BEGIN:VEVENT
DTSTART;VALUE=DATE:20260310
DTEND;VALUE=DATE:20260311
DTSTAMP:20260424T090615
CREATED:20260213T103200Z
LAST-MODIFIED:20260227T040602Z
UID:10001115-1773100800-1773187199@www.register-iri.com
SUMMARY:25th Navigator Assembly 2026
DESCRIPTION:
URL:https://www.register-iri.com/event/25th-navigator-assembly-2026/
LOCATION:Grand Hyatt Athens\, Syngrou Avenue 115\, Athens\, 117 45\, Greece
CATEGORIES:Conference
ORGANIZER;CN="Navigator Shipping Consultants":MAILTO:navigator@navigatorltd.gr
END:VEVENT
BEGIN:VEVENT
DTSTART;VALUE=DATE:20260310
DTEND;VALUE=DATE:20260313
DTSTAMP:20260424T090615
CREATED:20260109T100050Z
LAST-MODIFIED:20260226T032204Z
UID:10001083-1773100800-1773359999@www.register-iri.com
SUMMARY:CMA Shipping
DESCRIPTION:
URL:https://www.register-iri.com/event/cma-shipping-2026/
LOCATION:DoubleTree by Hilton Stamford\, 1 First Stamford Place\, Stamford\, CT\, 06902\, United States
CATEGORIES:Conference,Exhibition
END:VEVENT
BEGIN:VEVENT
DTSTART;VALUE=DATE:20260317
DTEND;VALUE=DATE:20260318
DTSTAMP:20260424T090615
CREATED:20260309T042309Z
LAST-MODIFIED:20260309T042750Z
UID:10001134-1773705600-1773791999@www.register-iri.com
SUMMARY:TradeWinds Shipowners Forum China 2026
DESCRIPTION:
URL:https://www.register-iri.com/event/tradewinds-shipowners-forum-china-2026/
LOCATION:JW Marriott Tomorrow Square\, Shanghai\, 399 Nanjing West Road\, Huangpu District\,\, Shanghai\, 200003\, China
CATEGORIES:Conference
END:VEVENT
BEGIN:VEVENT
DTSTART;VALUE=DATE:20260317
DTEND;VALUE=DATE:20260320
DTSTAMP:20260424T090615
CREATED:20260316T033842Z
LAST-MODIFIED:20260316T034454Z
UID:10001142-1773705600-1773964799@www.register-iri.com
SUMMARY:Macaé Energy 2026
DESCRIPTION:
URL:https://www.register-iri.com/event/macae-energy-2026/
LOCATION:Journalist Roberto Marinho Convention Center\, Av. São José Barreto\, Parque Aeroporto\, Macaé – RJ\, Brazil
CATEGORIES:Conference
END:VEVENT
BEGIN:VEVENT
DTSTART;VALUE=DATE:20260318
DTEND;VALUE=DATE:20260319
DTSTAMP:20260424T090615
CREATED:20260224T110236Z
LAST-MODIFIED:20260305T052350Z
UID:10001127-1773792000-1773878399@www.register-iri.com
SUMMARY:Smart Maritime Network Athens Conference
DESCRIPTION:
URL:https://www.register-iri.com/event/smart-maritime-network-athens-conference/
LOCATION:Ble Pavillon\, Leof. Poseidonos 70\, Alimos\, Greece
CATEGORIES:Conference
END:VEVENT
BEGIN:VEVENT
DTSTART;VALUE=DATE:20260318
DTEND;VALUE=DATE:20260320
DTSTAMP:20260424T090615
CREATED:20260223T054328Z
LAST-MODIFIED:20260223T054908Z
UID:10001126-1773792000-1773964799@www.register-iri.com
SUMMARY:Green Marine Transport 2026
DESCRIPTION:
URL:https://www.register-iri.com/event/green-marine-transport-2026/
LOCATION:Van Der Valk Amsterdam - Amstel\, Joan Muyskenweg 20\, Amsterdam\, 1096CJ\, Netherlands
CATEGORIES:Conference
END:VEVENT
BEGIN:VEVENT
DTSTART;VALUE=DATE:20260319
DTEND;VALUE=DATE:20260320
DTSTAMP:20260424T090615
CREATED:20260119T111501Z
LAST-MODIFIED:20260311T035315Z
UID:10001089-1773878400-1773964799@www.register-iri.com
SUMMARY:PCD Conference\, Monaco
DESCRIPTION:
URL:https://www.register-iri.com/event/pcd-monaco-conference/
LOCATION:Fairmont Monte Carlo\, 12 Avenue des Spélugues\, 98000\, Monaco
CATEGORIES:Conference
END:VEVENT
BEGIN:VEVENT
DTSTART;VALUE=DATE:20260319
DTEND;VALUE=DATE:20260321
DTSTAMP:20260424T090615
CREATED:20260211T104550Z
LAST-MODIFIED:20260218T054328Z
UID:10001110-1773878400-1774051199@www.register-iri.com
SUMMARY:2026 IFA USA Annual Conference
DESCRIPTION:
URL:https://www.register-iri.com/event/2026-ifa-usa-annual-conference/
LOCATION:Boston Marriott Long Wharf\, 296 State Street\, Boston\, MA\, United States
CATEGORIES:Conference
END:VEVENT
BEGIN:VEVENT
DTSTART;VALUE=DATE:20260320
DTEND;VALUE=DATE:20260321
DTSTAMP:20260424T090615
CREATED:20260306T102046Z
LAST-MODIFIED:20260318T051308Z
UID:10001133-1773964800-1774051199@www.register-iri.com
SUMMARY:STEP Hungary Conference 2026
DESCRIPTION:
URL:https://www.register-iri.com/event/step-hungary-conference-2026/
LOCATION:Budapest Bar Association\, Szalay u. 7\, Budapest\, 1055\, Hungary
CATEGORIES:Conference
END:VEVENT
BEGIN:VEVENT
DTSTART;VALUE=DATE:20260324
DTEND;VALUE=DATE:20260325
DTSTAMP:20260424T090615
CREATED:20260121T113122Z
LAST-MODIFIED:20260318T051124Z
UID:10001092-1774310400-1774396799@www.register-iri.com
SUMMARY:USSA Superyacht Summit
DESCRIPTION:
URL:https://www.register-iri.com/event/ussas-superyacht-summit/
LOCATION:West Palm Beach Marriott\, 1001 Okeechobee Blvd\, West Palm Beach\, FL\, 33401\, United States
CATEGORIES:Conference
END:VEVENT
BEGIN:VEVENT
DTSTART;VALUE=DATE:20260325
DTEND;VALUE=DATE:20260326
DTSTAMP:20260424T090615
CREATED:20260304T043308Z
LAST-MODIFIED:20260318T031817Z
UID:10001130-1774396800-1774483199@www.register-iri.com
SUMMARY:Mare Forum 5th Super Yacht Americas WPB
DESCRIPTION:
URL:https://www.register-iri.com/event/mare-forums-5th-super-yacht-americas-wpb/
LOCATION:Canopy by Hilton West Palm Beach Downtown\, 380 Trinity Pl\, West Palm Beach\, FL\, 33401\, United States
CATEGORIES:Conference
END:VEVENT
BEGIN:VEVENT
DTSTART;VALUE=DATE:20260325
DTEND;VALUE=DATE:20260326
DTSTAMP:20260424T090615
CREATED:20260305T055412Z
LAST-MODIFIED:20260318T030214Z
UID:10001131-1774396800-1774483199@www.register-iri.com
SUMMARY:IYBA 2026 Superyacht Law Summit - West Palm Beach
DESCRIPTION:
URL:https://www.register-iri.com/event/iyba-2026-superyacht-law-summit-west-palm-beach/
LOCATION:The Ben West Palm\, Blue Heron Banquet Room\, 251 N. Narcissus Ave\, West Palm Beach\, FL\, United States
CATEGORIES:Conference
END:VEVENT
BEGIN:VEVENT
DTSTART;VALUE=DATE:20260325
DTEND;VALUE=DATE:20260328
DTSTAMP:20260424T090615
CREATED:20260313T050647Z
LAST-MODIFIED:20260313T052305Z
UID:10001140-1774396800-1774655999@www.register-iri.com
SUMMARY:STEP New York - 21st Annual International Estate Planning Institute
DESCRIPTION:
URL:https://www.register-iri.com/event/step-new-york-21st-annual-international-estate-planning-institute/
LOCATION:New York Marriott Marquis\, 1535 Broadway\, New York\, NY\, 10036\, United States
CATEGORIES:Conference
END:VEVENT
BEGIN:VEVENT
DTSTART;VALUE=DATE:20260326
DTEND;VALUE=DATE:20260327
DTSTAMP:20260424T090615
CREATED:20260316T100442Z
LAST-MODIFIED:20260318T181001Z
UID:10001147-1774483200-1774569599@www.register-iri.com
SUMMARY:STEP Bratislava Conference
DESCRIPTION:
URL:https://www.register-iri.com/event/step-bratislava-conference/
LOCATION:Slovenská filharmónia\, Námestie E. Suchoňa 1\, Bratislava\, Slovakia (Slovak Republic)
CATEGORIES:Conference
END:VEVENT
BEGIN:VEVENT
DTSTART;VALUE=DATE:20260331
DTEND;VALUE=DATE:20260401
DTSTAMP:20260424T090615
CREATED:20260316T052625Z
LAST-MODIFIED:20260316T102344Z
UID:10001143-1774915200-1775001599@www.register-iri.com
SUMMARY:Greener Shipping Summit
DESCRIPTION:
URL:https://www.register-iri.com/event/greener-shipping-summit-2026/
LOCATION:Eugenides Foundation\, Leof. Andrea Siggrou 387\, Paleo Faliro\, 175 64\, Greece
CATEGORIES:Conference
END:VEVENT
BEGIN:VEVENT
DTSTART;VALUE=DATE:20260331
DTEND;VALUE=DATE:20260403
DTSTAMP:20260424T090615
CREATED:20260211T113158Z
LAST-MODIFIED:20260318T200249Z
UID:10001111-1774915200-1775174399@www.register-iri.com
SUMMARY:OTC Asia 2026
DESCRIPTION:
URL:https://www.register-iri.com/event/otc-asia-2026/
LOCATION:Kuala Lumpur Convention Center\, Kuala Lumpur City Center\, Kuala Lumpur\, 50088\, Malaysia
CATEGORIES:Conference,Exhibition
END:VEVENT
END:VCALENDAR