BEGIN:VCALENDAR
VERSION:2.0
PRODID:-//IRI | The Marshall Islands Registry - ECPv6.15.13.1//NONSGML v1.0//EN
CALSCALE:GREGORIAN
METHOD:PUBLISH
X-WR-CALNAME:IRI | The Marshall Islands Registry
X-ORIGINAL-URL:https://www.register-iri.com
X-WR-CALDESC:Events for IRI | The Marshall Islands Registry
REFRESH-INTERVAL;VALUE=DURATION:PT1H
X-Robots-Tag:noindex
X-PUBLISHED-TTL:PT1H
BEGIN:VTIMEZONE
TZID:UTC
BEGIN:STANDARD
TZOFFSETFROM:+0000
TZOFFSETTO:+0000
TZNAME:UTC
DTSTART:20220101T000000
END:STANDARD
END:VTIMEZONE
BEGIN:VTIMEZONE
TZID:Europe/Monaco
BEGIN:DAYLIGHT
TZOFFSETFROM:+0100
TZOFFSETTO:+0200
TZNAME:CEST
DTSTART:20220327T010000
END:DAYLIGHT
BEGIN:STANDARD
TZOFFSETFROM:+0200
TZOFFSETTO:+0100
TZNAME:CET
DTSTART:20221030T010000
END:STANDARD
BEGIN:DAYLIGHT
TZOFFSETFROM:+0100
TZOFFSETTO:+0200
TZNAME:CEST
DTSTART:20230326T010000
END:DAYLIGHT
BEGIN:STANDARD
TZOFFSETFROM:+0200
TZOFFSETTO:+0100
TZNAME:CET
DTSTART:20231029T010000
END:STANDARD
BEGIN:DAYLIGHT
TZOFFSETFROM:+0100
TZOFFSETTO:+0200
TZNAME:CEST
DTSTART:20240331T010000
END:DAYLIGHT
BEGIN:STANDARD
TZOFFSETFROM:+0200
TZOFFSETTO:+0100
TZNAME:CET
DTSTART:20241027T010000
END:STANDARD
END:VTIMEZONE
BEGIN:VTIMEZONE
TZID:Asia/Shanghai
BEGIN:STANDARD
TZOFFSETFROM:+0800
TZOFFSETTO:+0800
TZNAME:CST
DTSTART:20220101T000000
END:STANDARD
END:VTIMEZONE
BEGIN:VTIMEZONE
TZID:Asia/Hong_Kong
BEGIN:STANDARD
TZOFFSETFROM:+0800
TZOFFSETTO:+0800
TZNAME:HKT
DTSTART:20220101T000000
END:STANDARD
END:VTIMEZONE
BEGIN:VTIMEZONE
TZID:Europe/Athens
BEGIN:DAYLIGHT
TZOFFSETFROM:+0200
TZOFFSETTO:+0300
TZNAME:EEST
DTSTART:20220327T010000
END:DAYLIGHT
BEGIN:STANDARD
TZOFFSETFROM:+0300
TZOFFSETTO:+0200
TZNAME:EET
DTSTART:20221030T010000
END:STANDARD
BEGIN:DAYLIGHT
TZOFFSETFROM:+0200
TZOFFSETTO:+0300
TZNAME:EEST
DTSTART:20230326T010000
END:DAYLIGHT
BEGIN:STANDARD
TZOFFSETFROM:+0300
TZOFFSETTO:+0200
TZNAME:EET
DTSTART:20231029T010000
END:STANDARD
BEGIN:DAYLIGHT
TZOFFSETFROM:+0200
TZOFFSETTO:+0300
TZNAME:EEST
DTSTART:20240331T010000
END:DAYLIGHT
BEGIN:STANDARD
TZOFFSETFROM:+0300
TZOFFSETTO:+0200
TZNAME:EET
DTSTART:20241027T010000
END:STANDARD
BEGIN:DAYLIGHT
TZOFFSETFROM:+0200
TZOFFSETTO:+0300
TZNAME:EEST
DTSTART:20250330T010000
END:DAYLIGHT
BEGIN:STANDARD
TZOFFSETFROM:+0300
TZOFFSETTO:+0200
TZNAME:EET
DTSTART:20251026T010000
END:STANDARD
END:VTIMEZONE
BEGIN:VTIMEZONE
TZID:America/Los_Angeles
BEGIN:DAYLIGHT
TZOFFSETFROM:-0800
TZOFFSETTO:-0700
TZNAME:PDT
DTSTART:20220313T100000
END:DAYLIGHT
BEGIN:STANDARD
TZOFFSETFROM:-0700
TZOFFSETTO:-0800
TZNAME:PST
DTSTART:20221106T090000
END:STANDARD
BEGIN:DAYLIGHT
TZOFFSETFROM:-0800
TZOFFSETTO:-0700
TZNAME:PDT
DTSTART:20230312T100000
END:DAYLIGHT
BEGIN:STANDARD
TZOFFSETFROM:-0700
TZOFFSETTO:-0800
TZNAME:PST
DTSTART:20231105T090000
END:STANDARD
BEGIN:DAYLIGHT
TZOFFSETFROM:-0800
TZOFFSETTO:-0700
TZNAME:PDT
DTSTART:20240310T100000
END:DAYLIGHT
BEGIN:STANDARD
TZOFFSETFROM:-0700
TZOFFSETTO:-0800
TZNAME:PST
DTSTART:20241103T090000
END:STANDARD
END:VTIMEZONE
BEGIN:VTIMEZONE
TZID:Europe/Helsinki
BEGIN:DAYLIGHT
TZOFFSETFROM:+0200
TZOFFSETTO:+0300
TZNAME:EEST
DTSTART:20220327T010000
END:DAYLIGHT
BEGIN:STANDARD
TZOFFSETFROM:+0300
TZOFFSETTO:+0200
TZNAME:EET
DTSTART:20221030T010000
END:STANDARD
BEGIN:DAYLIGHT
TZOFFSETFROM:+0200
TZOFFSETTO:+0300
TZNAME:EEST
DTSTART:20230326T010000
END:DAYLIGHT
BEGIN:STANDARD
TZOFFSETFROM:+0300
TZOFFSETTO:+0200
TZNAME:EET
DTSTART:20231029T010000
END:STANDARD
BEGIN:DAYLIGHT
TZOFFSETFROM:+0200
TZOFFSETTO:+0300
TZNAME:EEST
DTSTART:20240331T010000
END:DAYLIGHT
BEGIN:STANDARD
TZOFFSETFROM:+0300
TZOFFSETTO:+0200
TZNAME:EET
DTSTART:20241027T010000
END:STANDARD
BEGIN:DAYLIGHT
TZOFFSETFROM:+0200
TZOFFSETTO:+0300
TZNAME:EEST
DTSTART:20250330T010000
END:DAYLIGHT
BEGIN:STANDARD
TZOFFSETFROM:+0300
TZOFFSETTO:+0200
TZNAME:EET
DTSTART:20251026T010000
END:STANDARD
END:VTIMEZONE
BEGIN:VTIMEZONE
TZID:Europe/Zurich
BEGIN:DAYLIGHT
TZOFFSETFROM:+0100
TZOFFSETTO:+0200
TZNAME:CEST
DTSTART:20220327T010000
END:DAYLIGHT
BEGIN:STANDARD
TZOFFSETFROM:+0200
TZOFFSETTO:+0100
TZNAME:CET
DTSTART:20221030T010000
END:STANDARD
BEGIN:DAYLIGHT
TZOFFSETFROM:+0100
TZOFFSETTO:+0200
TZNAME:CEST
DTSTART:20230326T010000
END:DAYLIGHT
BEGIN:STANDARD
TZOFFSETFROM:+0200
TZOFFSETTO:+0100
TZNAME:CET
DTSTART:20231029T010000
END:STANDARD
BEGIN:DAYLIGHT
TZOFFSETFROM:+0100
TZOFFSETTO:+0200
TZNAME:CEST
DTSTART:20240331T010000
END:DAYLIGHT
BEGIN:STANDARD
TZOFFSETFROM:+0200
TZOFFSETTO:+0100
TZNAME:CET
DTSTART:20241027T010000
END:STANDARD
END:VTIMEZONE
BEGIN:VTIMEZONE
TZID:Europe/Amsterdam
BEGIN:DAYLIGHT
TZOFFSETFROM:+0100
TZOFFSETTO:+0200
TZNAME:CEST
DTSTART:20220327T010000
END:DAYLIGHT
BEGIN:STANDARD
TZOFFSETFROM:+0200
TZOFFSETTO:+0100
TZNAME:CET
DTSTART:20221030T010000
END:STANDARD
BEGIN:DAYLIGHT
TZOFFSETFROM:+0100
TZOFFSETTO:+0200
TZNAME:CEST
DTSTART:20230326T010000
END:DAYLIGHT
BEGIN:STANDARD
TZOFFSETFROM:+0200
TZOFFSETTO:+0100
TZNAME:CET
DTSTART:20231029T010000
END:STANDARD
BEGIN:DAYLIGHT
TZOFFSETFROM:+0100
TZOFFSETTO:+0200
TZNAME:CEST
DTSTART:20240331T010000
END:DAYLIGHT
BEGIN:STANDARD
TZOFFSETFROM:+0200
TZOFFSETTO:+0100
TZNAME:CET
DTSTART:20241027T010000
END:STANDARD
END:VTIMEZONE
BEGIN:VTIMEZONE
TZID:America/Cayman
BEGIN:STANDARD
TZOFFSETFROM:-0500
TZOFFSETTO:-0500
TZNAME:EST
DTSTART:20230101T000000
END:STANDARD
END:VTIMEZONE
BEGIN:VTIMEZONE
TZID:Asia/Kolkata
BEGIN:STANDARD
TZOFFSETFROM:+0530
TZOFFSETTO:+0530
TZNAME:IST
DTSTART:20230101T000000
END:STANDARD
END:VTIMEZONE
BEGIN:VTIMEZONE
TZID:Europe/Paris
BEGIN:DAYLIGHT
TZOFFSETFROM:+0100
TZOFFSETTO:+0200
TZNAME:CEST
DTSTART:20230326T010000
END:DAYLIGHT
BEGIN:STANDARD
TZOFFSETFROM:+0200
TZOFFSETTO:+0100
TZNAME:CET
DTSTART:20231029T010000
END:STANDARD
BEGIN:DAYLIGHT
TZOFFSETFROM:+0100
TZOFFSETTO:+0200
TZNAME:CEST
DTSTART:20240331T010000
END:DAYLIGHT
BEGIN:STANDARD
TZOFFSETFROM:+0200
TZOFFSETTO:+0100
TZNAME:CET
DTSTART:20241027T010000
END:STANDARD
BEGIN:DAYLIGHT
TZOFFSETFROM:+0100
TZOFFSETTO:+0200
TZNAME:CEST
DTSTART:20250330T010000
END:DAYLIGHT
BEGIN:STANDARD
TZOFFSETFROM:+0200
TZOFFSETTO:+0100
TZNAME:CET
DTSTART:20251026T010000
END:STANDARD
END:VTIMEZONE
BEGIN:VTIMEZONE
TZID:Asia/Dubai
BEGIN:STANDARD
TZOFFSETFROM:+0400
TZOFFSETTO:+0400
TZNAME:+04
DTSTART:20230101T000000
END:STANDARD
END:VTIMEZONE
BEGIN:VTIMEZONE
TZID:America/New_York
BEGIN:DAYLIGHT
TZOFFSETFROM:-0500
TZOFFSETTO:-0400
TZNAME:EDT
DTSTART:20230312T070000
END:DAYLIGHT
BEGIN:STANDARD
TZOFFSETFROM:-0400
TZOFFSETTO:-0500
TZNAME:EST
DTSTART:20231105T060000
END:STANDARD
BEGIN:DAYLIGHT
TZOFFSETFROM:-0500
TZOFFSETTO:-0400
TZNAME:EDT
DTSTART:20240310T070000
END:DAYLIGHT
BEGIN:STANDARD
TZOFFSETFROM:-0400
TZOFFSETTO:-0500
TZNAME:EST
DTSTART:20241103T060000
END:STANDARD
BEGIN:DAYLIGHT
TZOFFSETFROM:-0500
TZOFFSETTO:-0400
TZNAME:EDT
DTSTART:20250309T070000
END:DAYLIGHT
BEGIN:STANDARD
TZOFFSETFROM:-0400
TZOFFSETTO:-0500
TZNAME:EST
DTSTART:20251102T060000
END:STANDARD
END:VTIMEZONE
BEGIN:VEVENT
DTSTART;TZID=UTC:20230420T170000
DTEND;TZID=UTC:20230420T193000
DTSTAMP:20260421T181028
CREATED:20230406T205339Z
LAST-MODIFIED:20230406T205339Z
UID:10000295-1682010000-1682019000@www.register-iri.com
SUMMARY:2023 Setting the Course Reception & Anniversary Celebration
DESCRIPTION:
URL:https://www.register-iri.com/event/2023-setting-the-course-reception-anniversary-celebration/
LOCATION:New York Athletic Club\, 180 Central Park South\, New York\, NY\, 10019\, United States
CATEGORIES:Cocktail
END:VEVENT
BEGIN:VEVENT
DTSTART;TZID=UTC:20230425T080000
DTEND;TZID=UTC:20230425T170000
DTSTAMP:20260421T181028
CREATED:20230308T135000Z
LAST-MODIFIED:20230308T135000Z
UID:10000293-1682409600-1682442000@www.register-iri.com
SUMMARY:2023 Marine Money Cyprus Forum
DESCRIPTION:
URL:https://www.register-iri.com/event/2023-marine-money-cyprus-forum/
LOCATION:Four Seasons Hotel\, 67-69 Amathountos Avenue\, Agios Tychonas\, Limassol\, 4532\, Cyprus
CATEGORIES:Conference,Cocktail
ORGANIZER;CN="Marine Money International":MAILTO:mia@marine -marketing.gr
END:VEVENT
BEGIN:VEVENT
DTSTART;VALUE=DATE:20230517
DTEND;VALUE=DATE:20230518
DTSTAMP:20260421T181028
CREATED:20230410T214205Z
LAST-MODIFIED:20230410T214205Z
UID:10000701-1684281600-1684367999@www.register-iri.com
SUMMARY:7th Mare Forum Istanbul
DESCRIPTION:
URL:https://www.register-iri.com/event/7th-mare-forum-istanbul/
LOCATION:Holiday Inn Istanbul - Tuzla Bay\, Güzelyalı\, Sahil Blv No:72\, Pendik/İstanbul\, 34903\, Turkey
CATEGORIES:Conference,Cocktail
END:VEVENT
BEGIN:VEVENT
DTSTART;VALUE=DATE:20230518
DTEND;VALUE=DATE:20230519
DTSTAMP:20260421T181028
CREATED:20230410T214449Z
LAST-MODIFIED:20230410T214449Z
UID:10000702-1684368000-1684454399@www.register-iri.com
SUMMARY:Mare Forum 1st Super Yacht Türkiye
DESCRIPTION:
URL:https://www.register-iri.com/event/mare-forum-1st-super-yacht-turkiye/
LOCATION:Holiday Inn Istanbul - Tuzla Bay\, Güzelyalı\, Sahil Blv No:72\, Pendik/İstanbul\, 34903\, Turkey
CATEGORIES:Conference,Cocktail
END:VEVENT
BEGIN:VEVENT
DTSTART;VALUE=DATE:20230522
DTEND;VALUE=DATE:20230526
DTSTAMP:20260421T181028
CREATED:20230411T152533Z
LAST-MODIFIED:20230411T152533Z
UID:10000299-1684713600-1685059199@www.register-iri.com
SUMMARY:INTERTANKO Dubai Meet and Annual Tanker Event 2023
DESCRIPTION:
URL:https://www.register-iri.com/event/intertanko-dubai-meet-and-annual-tanker-event-2023/
LOCATION:Park Hyatt Dubai\, Dubai Creek Club St - Port Saeed\, Dubai\, United Arab Emirates
CATEGORIES:Conference,Cocktail
END:VEVENT
BEGIN:VEVENT
DTSTART;VALUE=DATE:20230525
DTEND;VALUE=DATE:20230526
DTSTAMP:20260421T181028
CREATED:20230411T151849Z
LAST-MODIFIED:20230411T151849Z
UID:10000707-1684972800-1685059199@www.register-iri.com
SUMMARY:Tradewinds Shipowners Forum Singapore 2023
DESCRIPTION:
URL:https://www.register-iri.com/event/tradewinds-shipowners-forum-singapore-2023/
LOCATION:Marina Bay Sands\, Orchid Main Ballroom\, level 4\, Singapore\, Singapore
CATEGORIES:Conference,Cocktail
END:VEVENT
BEGIN:VEVENT
DTSTART;VALUE=DATE:20230605
DTEND;VALUE=DATE:20230606
DTSTAMP:20260421T181028
CREATED:20230411T153406Z
LAST-MODIFIED:20230411T153406Z
UID:10000303-1685923200-1686009599@www.register-iri.com
SUMMARY:4th Mare Forum Oslo 2023
DESCRIPTION:
URL:https://www.register-iri.com/event/4th-mare-forum-oslo-2023/
LOCATION:Grand Hotel Oslo\, Karl Johans gate 31\, Oslo\, 0159\, Norway
CATEGORIES:Conference,Cocktail
END:VEVENT
BEGIN:VEVENT
DTSTART;VALUE=DATE:20230608
DTEND;VALUE=DATE:20230609
DTSTAMP:20260421T181028
CREATED:20230427T162756Z
LAST-MODIFIED:20230427T162756Z
UID:10000320-1686182400-1686268799@www.register-iri.com
SUMMARY:Marine Money - 2023 Norway Ship & Offshore Finance Forum
DESCRIPTION:
URL:https://www.register-iri.com/event/marine-money-2023-norway-ship-offshore-finance-forum/
LOCATION:Hotel Continental\, Stortingsgaten 24/26\,\, Oslo\, 0117\, Norway
CATEGORIES:Conference,Cocktail
END:VEVENT
BEGIN:VEVENT
DTSTART;VALUE=DATE:20230620
DTEND;VALUE=DATE:20230623
DTSTAMP:20260421T181028
CREATED:20230410T215120Z
LAST-MODIFIED:20230410T215120Z
UID:10000704-1687219200-1687478399@www.register-iri.com
SUMMARY:2023 Marine Money Week
DESCRIPTION:
URL:https://www.register-iri.com/event/2023-marine-money-week/
LOCATION:The Pierre Hotel\, 2 East 61st Street at Fifth Avenue\, New York\, NY\, 10065\, United States
CATEGORIES:Conference,Cocktail
END:VEVENT
BEGIN:VEVENT
DTSTART;VALUE=DATE:20230901
DTEND;VALUE=DATE:20230902
DTSTAMP:20260421T181028
CREATED:20230427T171051Z
LAST-MODIFIED:20230802T185731Z
UID:10000708-1693526400-1693612799@www.register-iri.com
SUMMARY:Mare Forum - 6th Mare Forum Mykonos
DESCRIPTION:
URL:https://www.register-iri.com/event/mare-forum-6th-mare-forum-mykonos/
LOCATION:Saint John Mykonos Hotel\, Agios Ioannis - 84600\, Mykonos\, Cyclades Islands\, Greece
CATEGORIES:Conference,Cocktail
END:VEVENT
BEGIN:VEVENT
DTSTART;TZID=UTC:20230907T080000
DTEND;TZID=UTC:20230907T170000
DTSTAMP:20260421T181028
CREATED:20230803T113316Z
LAST-MODIFIED:20230803T113357Z
UID:10000714-1694073600-1694106000@www.register-iri.com
SUMMARY:2023 Copenhagen Members Only Private Event
DESCRIPTION:
URL:https://www.register-iri.com/event/2023-copenhagen-members-only-private-event/
LOCATION:Auditorium Gorrissen Federspiel\, Axel Towers\, Copenhagen\, 1609\, Denmark
CATEGORIES:Conference,Cocktail
END:VEVENT
BEGIN:VEVENT
DTSTART;TZID=UTC:20230923T183000
DTEND;TZID=UTC:20230923T230000
DTSTAMP:20260421T181028
CREATED:20230807T095916Z
LAST-MODIFIED:20230807T100057Z
UID:10000321-1695493800-1695510000@www.register-iri.com
SUMMARY:27th Annual International Golden Compass Award Gala
DESCRIPTION:
URL:https://www.register-iri.com/event/27th-annual-international-golden-compass-award-gala/
LOCATION:Bahia Mar Fort Lauderdale Beach - a DoubleTree by Hilton Hotel\, Commodore Ballroom\, Salon C\, 801 Seabreeze Blvd\, Fort Lauderdale\, FL\, 33316\, United States
CATEGORIES:Awards,Dinner,Cocktail
END:VEVENT
BEGIN:VEVENT
DTSTART;TZID=Europe/Monaco:20230929T170000
DTEND;TZID=Europe/Monaco:20230929T193000
DTSTAMP:20260421T181028
CREATED:20230808T065828Z
LAST-MODIFIED:20230914T113404Z
UID:10000715-1696006800-1696015800@www.register-iri.com
SUMMARY:5th Super Yacht Europe
DESCRIPTION:
URL:https://www.register-iri.com/event/5th-super-yacht-europe/
LOCATION:Yacht Club De Monaco\, Quai Louis II\, Monaco\, 98000\, Monaco
CATEGORIES:Conference,Convention,Cocktail
END:VEVENT
BEGIN:VEVENT
DTSTART;TZID=Asia/Shanghai:20231107T080000
DTEND;TZID=Asia/Shanghai:20231107T170000
DTSTAMP:20260421T181028
CREATED:20231027T115911Z
LAST-MODIFIED:20231027T121425Z
UID:10000351-1699344000-1699376400@www.register-iri.com
SUMMARY:Marine Money 2023 China Ship Finance Forum
DESCRIPTION:
URL:https://www.register-iri.com/event/2023-china-ship-finance-forum/
LOCATION:The Ritz-Carlton Shanghai\, Pudong\, Shanghai IFC\, 8 Century Avenue\, Lujiazui\, Pudong\, Shanghai\, 200120\, China
CATEGORIES:Conference,Cocktail
END:VEVENT
BEGIN:VEVENT
DTSTART;TZID=UTC:20231108T090000
DTEND;TZID=UTC:20231108T190000
DTSTAMP:20260421T181028
CREATED:20230818T075144Z
LAST-MODIFIED:20230818T075144Z
UID:10000734-1699434000-1699470000@www.register-iri.com
SUMMARY:22nd Mare Forum Ship Finance
DESCRIPTION:
URL:https://www.register-iri.com/event/22nd-mare-forum-ship-finance/
CATEGORIES:Conference,Cocktail
END:VEVENT
BEGIN:VEVENT
DTSTART;TZID=UTC:20231116T080000
DTEND;TZID=UTC:20231116T190000
DTSTAMP:20260421T181028
CREATED:20230922T120050Z
LAST-MODIFIED:20231106T064411Z
UID:10000741-1700121600-1700161200@www.register-iri.com
SUMMARY:2023 Marine Money Ship Finance Forum NYC
DESCRIPTION:
URL:https://www.register-iri.com/event/2023-marine-money-ship-finance-forum-nyc/
LOCATION:Quorum by Convene\, 1221 Avenue of the Americas\, 2nd Floor\,\, New York\, 10020\, United States
CATEGORIES:Conference,Cocktail
END:VEVENT
BEGIN:VEVENT
DTSTART;TZID=Asia/Hong_Kong:20231122T170000
DTEND;TZID=Asia/Hong_Kong:20231122T203000
DTSTAMP:20260421T181028
CREATED:20231026T110656Z
LAST-MODIFIED:20231026T110724Z
UID:10000757-1700672400-1700685000@www.register-iri.com
SUMMARY:HKSOA Annual General Meeting and Annual Cocktail Party 2023
DESCRIPTION:
URL:https://www.register-iri.com/event/hksoa-annual-general-meeting-and-annual-cocktail-party-2023/
LOCATION:The Hong Kong Club\, 1 Jackson Road\, Central\,\, Hong Kong\, Hong Kong
CATEGORIES:Meeting,Cocktail
END:VEVENT
BEGIN:VEVENT
DTSTART;TZID=Europe/Athens:20231128T173000
DTEND;TZID=Europe/Athens:20231128T210000
DTSTAMP:20260421T181028
CREATED:20231121T092313Z
LAST-MODIFIED:20231121T101203Z
UID:10000357-1701192600-1701205200@www.register-iri.com
SUMMARY:18th ICS Annual Forum
DESCRIPTION:
URL:https://www.register-iri.com/event/18th-ics-annual-forum/
LOCATION:Eugenides Foundation\, Leof. Andrea Siggrou 387\, Paleo Faliro\, 175 64\, Greece
CATEGORIES:Conference,Cocktail
END:VEVENT
BEGIN:VEVENT
DTSTART;TZID=America/Los_Angeles:20231130T080000
DTEND;TZID=America/Los_Angeles:20231130T170000
DTSTAMP:20260421T181028
CREATED:20230925T111950Z
LAST-MODIFIED:20231121T115431Z
UID:10000742-1701331200-1701363600@www.register-iri.com
SUMMARY:Marine Money 2023 Finance Forum – New Orleans
DESCRIPTION:
URL:https://www.register-iri.com/event/2023-marine-finance-forum-new-orleans/
LOCATION:Four Seasons Hotel\, New Orleans\, 2 Canal Street\, New Orleans\, LA\, 70130\, United States
CATEGORIES:Conference,Cocktail
END:VEVENT
BEGIN:VEVENT
DTSTART;TZID=Europe/Helsinki:20231130T090000
DTEND;TZID=Europe/Helsinki:20231130T190000
DTSTAMP:20260421T181028
CREATED:20231026T114742Z
LAST-MODIFIED:20231117T111636Z
UID:10000350-1701334800-1701370800@www.register-iri.com
SUMMARY:25th Hansa Forum 2023
DESCRIPTION:
URL:https://www.register-iri.com/event/hansa-forum-2023/
LOCATION:International Maritime Museum Hamburg\, Koreastrasse 1\,\, Hamburg\, 20457\, Germany
CATEGORIES:Conference,Meeting,Seminar,Cocktail
END:VEVENT
BEGIN:VEVENT
DTSTART;TZID=Europe/Zurich:20231206T180000
DTEND;TZID=Europe/Zurich:20231206T210000
DTSTAMP:20260421T181028
CREATED:20231018T103518Z
LAST-MODIFIED:20231018T103552Z
UID:10000752-1701885600-1701896400@www.register-iri.com
SUMMARY:Zurich Holiday/New Office Party
DESCRIPTION:
URL:https://www.register-iri.com/event/zurich-holiday-new-office-party/
CATEGORIES:Cocktail
END:VEVENT
BEGIN:VEVENT
DTSTART;TZID=Europe/Amsterdam:20231207T180000
DTEND;TZID=Europe/Amsterdam:20231207T210000
DTSTAMP:20260421T181028
CREATED:20231018T104237Z
LAST-MODIFIED:20231018T104644Z
UID:10000753-1701972000-1701982800@www.register-iri.com
SUMMARY:IRI Roosendaal Office Party
DESCRIPTION:
URL:https://www.register-iri.com/event/iri-roosendaal-office-party/
LOCATION:Restaurant De Tuin van de Vier Windstreken\, Plaszoom 354\, Rotterdam\, The Netherlands\, 3062
CATEGORIES:Cocktail
END:VEVENT
BEGIN:VEVENT
DTSTART;VALUE=DATE:20240118
DTEND;VALUE=DATE:20240120
DTSTAMP:20260421T181028
CREATED:20240103T051044Z
LAST-MODIFIED:20240103T115949Z
UID:10000361-1705536000-1705708799@www.register-iri.com
SUMMARY:STEP Cayman Conference 2024
DESCRIPTION:
URL:https://www.register-iri.com/event/step-cayman-conference-2024/
LOCATION:The Ritz-Carlton\, Grand Cayman\, Seven Mile Beach\,\, Grand Cayman\,\, KY1-1209\, Cayman Islands
CATEGORIES:Conference,Seminar,Cocktail
END:VEVENT
BEGIN:VEVENT
DTSTART;TZID=UTC:20240125T080000
DTEND;TZID=UTC:20240125T190000
DTSTAMP:20260421T181028
CREATED:20240103T045846Z
LAST-MODIFIED:20240110T113211Z
UID:10000359-1706169600-1706209200@www.register-iri.com
SUMMARY:Marine Money 2024 London Ship Finance Forum
DESCRIPTION:
URL:https://www.register-iri.com/event/2024-london-ship-finance-forum/
LOCATION:JW Marriott Grosvenor House London\, 86-90 Park Lane\, London\, W1K 7TN\, United Kingdom
CATEGORIES:Conference,Cocktail
END:VEVENT
BEGIN:VEVENT
DTSTART;TZID=Europe/Athens:20240207T170000
DTEND;TZID=Europe/Athens:20240207T203000
DTSTAMP:20260421T181028
CREATED:20240205T102709Z
LAST-MODIFIED:20240205T103443Z
UID:10000775-1707325200-1707337800@www.register-iri.com
SUMMARY:Elaborate Communications Decarbonisation Summit
DESCRIPTION:
URL:https://www.register-iri.com/event/elaborate-communications-decarbonisation-summit/
LOCATION:InterContinental Athenaeum Athens\, Syngrou Avenue 89-93\, Athens\, 117 45\, Greece
CATEGORIES:Conference,Cocktail
END:VEVENT
BEGIN:VEVENT
DTSTART;TZID=Asia/Kolkata:20240220T080000
DTEND;TZID=Asia/Kolkata:20240220T170000
DTSTAMP:20260421T181028
CREATED:20240103T080130Z
LAST-MODIFIED:20240209T103128Z
UID:10000354-1708416000-1708448400@www.register-iri.com
SUMMARY:Marine Money's 2024 India Ship Finance Forum
DESCRIPTION:
URL:https://www.register-iri.com/event/marine-money-2024-india-ship-finance-forum/
LOCATION:Trident Hotel\, Nariman Point\,\, Mumbai\, 400 021\, India
CATEGORIES:Conference,Cocktail
END:VEVENT
BEGIN:VEVENT
DTSTART;TZID=Europe/Helsinki:20240227T081500
DTEND;TZID=Europe/Helsinki:20240227T183000
DTSTAMP:20260421T181028
CREATED:20240209T062331Z
LAST-MODIFIED:20240209T063455Z
UID:10000776-1709021700-1709058600@www.register-iri.com
SUMMARY:7th Annual Capital Link Cyprus Shipping Forum
DESCRIPTION:
URL:https://www.register-iri.com/event/7th-annual-capital-link-cyprus-shipping-forum/
LOCATION:Columbia Plaza\, Agiou Andreou 223\, Limassol\, CY 3730\, Cyprus
CATEGORIES:Conference,Cocktail
END:VEVENT
BEGIN:VEVENT
DTSTART;TZID=Europe/Paris:20240228T090000
DTEND;TZID=Europe/Paris:20240228T170000
DTSTAMP:20260421T181028
CREATED:20240103T071429Z
LAST-MODIFIED:20240209T105146Z
UID:10000762-1709110800-1709139600@www.register-iri.com
SUMMARY:2024 Marine Money Hamburg
DESCRIPTION:
URL:https://www.register-iri.com/event/2024-marine-money-hamburg/
LOCATION:Grand Elysée Hotel\, Rothenbaumchaussee 10\, Hamburg\, 20148\, Germany
CATEGORIES:Conference,Cocktail
END:VEVENT
BEGIN:VEVENT
DTSTART;TZID=Asia/Dubai:20240306T080000
DTEND;TZID=Asia/Dubai:20240306T170000
DTSTAMP:20260421T181028
CREATED:20240103T114634Z
LAST-MODIFIED:20240223T071216Z
UID:10000358-1709712000-1709744400@www.register-iri.com
SUMMARY:Marine Money's 2024 Gulf Ship Finance Forum
DESCRIPTION:
URL:https://www.register-iri.com/event/marine-money-2024-gulf-ship-finance-forum/
LOCATION:Waldorf Astoria Dubai International Financial Centre\, Burj Daman\, Al Mustaqbal Street\, Dubai\, United Arab Emirates
CATEGORIES:Conference,Cocktail
END:VEVENT
BEGIN:VEVENT
DTSTART;TZID=America/New_York:20240311T071500
DTEND;TZID=America/New_York:20240311T184000
DTSTAMP:20260421T181028
CREATED:20240220T095528Z
LAST-MODIFIED:20240304T053457Z
UID:10000777-1710141300-1710182400@www.register-iri.com
SUMMARY:18th Annual Capital Link International Shipping Forum New York
DESCRIPTION:
URL:https://www.register-iri.com/event/18th-annual-capital-link-international-shipping-forum/
LOCATION:Metropolitan Club New York\, One East Sixtieth Street\, New York\, NY\, 10022-1054\, United States
CATEGORIES:Conference,Cocktail
END:VEVENT
END:VCALENDAR